BEGIN:VCALENDAR
VERSION:2.0
PRODID:-//ChamberMaster//Event Calendar 2.0//EN
METHOD:PUBLISH
X-PUBLISHED-TTL:P3D
REFRESH-INTERVAL:P3D
CALSCALE:GREGORIAN
BEGIN:VEVENT
DTSTART:20140513T183000Z
DTEND:20140513T200000Z
X-MICROSOFT-CDO-ALLDAYEVENT:FALSE
SUMMARY:Lunch and Learn- Social Media for the Small Business
DESCRIPTION:"Social Media for the Small Business"\n\n\n\nLearn what steps you can take today to enhance your social media presence. We all know a social media presence is necessary for small businesses to get noticed. Our presenter\, Brian Bentzen with give you the information to get started or enhance you presence. He'll be covering Facebook and Twitter.\n\n\n\nBrian Bentzen is an Area Direct Consultant for BNI Central Valley\, a small business marketing consultant and a small business owner himself.
X-ALT-DESC;FMTTYPE=text/html:&ldquo\;Social Media for the Small Business&rdquo\;<br />\n<br />\nLearn what steps you can take today to enhance your social media presence. We all know a social media presence is necessary for small businesses to get noticed. Our presenter\, Brian&nbsp\;Bentzen&nbsp\;with give you the information to get started or enhance you presence. He&rsquo\;ll be covering Facebook and Twitter.<br />\n<br />\nBrian&nbsp\;Bentzen&nbsp\;is an Area Direct Consultant for&nbsp\;BNI&nbsp\;Central Valley\, a small business marketing consultant and a small business owner himself.
LOCATION:Black Bear Diner 2700 El Centro Rd. Sacramento\, CA 95835
UID:e.1155.854
SEQUENCE:3
DTSTAMP:20260421T114948Z
URL:https://business.natomaschamber.org/events/details/lunch-and-learn-social-media-for-the-small-business-05-13-2014-854
END:VEVENT

END:VCALENDAR
