BEGIN:VCALENDAR
VERSION:2.0
PRODID:-//ChamberMaster//Event Calendar 2.0//EN
METHOD:PUBLISH
X-PUBLISHED-TTL:P3D
REFRESH-INTERVAL:P3D
CALSCALE:GREGORIAN
BEGIN:VEVENT
DTSTART:20140211T193000Z
DTEND:20140211T210000Z
X-MICROSOFT-CDO-ALLDAYEVENT:FALSE
SUMMARY:Lunch and Learn "Small Business Administration"
DESCRIPTION:Small Business Administration will make a presentation and discuss all their services they offer to small businesses in our community.\n\n\n\nLunch Choices:\n\n\n	\n		French Dip Sandwiches served with salad (as a first course) and French fries\n	\n		Fish and Chips served with salad (as a first course)\, French fries and coleslaw\n	\n		Chicken Taco Salad served with a cup of soup (as a first course)
X-ALT-DESC;FMTTYPE=text/html:Small Business Administration will make a presentation and discuss all their services they offer to small businesses in our community.<br />\n<br />\n<span style="font-size:medium\;"><span style="font-family:arial\;"><span style="font-family:arial\;"><span style="font-size:12pt\;">Lunch Choices:</span></span></span></span><br />\n<ul>\n	<li>\n		French Dip Sandwiches served with salad (as a first course) and French fries</li>\n	<li>\n		Fish and Chips served with salad (as a first course)\, French fries and coleslaw</li>\n	<li>\n		Chicken Taco Salad served with a cup of soup (as a first course)</li>\n</ul>\n
LOCATION:Black Bear Diner 2700 El Centro Rd Sacramento\, CA
UID:e.1155.870
SEQUENCE:3
DTSTAMP:20260421T144317Z
URL:https://business.natomaschamber.org/events/details/lunch-and-learn-small-business-administration-02-11-2014-870
END:VEVENT

END:VCALENDAR
