BEGIN:VCALENDAR
VERSION:2.0
PRODID:-//ChamberMaster//Event Calendar 2.0//EN
METHOD:PUBLISH
X-PUBLISHED-TTL:P3D
REFRESH-INTERVAL:P3D
CALSCALE:GREGORIAN
BEGIN:VEVENT
DTSTART:20131112T193000Z
DTEND:20131112T210000Z
X-MICROSOFT-CDO-ALLDAYEVENT:FALSE
SUMMARY:Lunch and Learn- Health Care Initiative
DESCRIPTION:You asked us to bring this topic back for an update. Our sponsor Western Health Advantage has invited a guest speaker\, Brad Davis\, to update us on the changes in health care as they apply to individuals and small businesses. \n\n\n\n1) Healthcare Reform: Top 5 things an Employer needs to know now.\n\n2) Healthcare Reform: The Exchanges are coming! Are you ready?\n\n \n\nHere is some information on the speaker:\n\n \n\nBrad is a Certified Employee Benefits Specialist (CEBS) at Wraith\, Scarlett\, and Randolph Insurance Services in Woodland\, CA. He offers a wide range of skills as a tactician\, economist\, and educator for health\, dental\, vision\, life\, disability\, and voluntary worksite insurance. Brad also advises clients in the area of retirement products including 401(k)\, Medicare\, and long-term care. \n\n \n\nEducation is vital to the success of an Employee Benefits package. Brad is able to communicate complex insurance strategies on a detailed yet simplified and personal level to both employers and employees. By offering choice and understanding\, employees will appreciate their benefits package exponentially more and allow employers to recruit and retain effectively.\n.
X-ALT-DESC;FMTTYPE=text/html:<p style="margin-top: 0px\; margin-bottom: 0px\;"><span>You asked us to bring this topic back for an update. Our sponsor Western Health Advantage has invited a guest speaker\, Brad Davis\, to update us on the changes in health care as they apply to individuals and small businesses. </span><br />\n<br />\n1) Healthcare Reform: Top 5 things an Employer needs to know now.</p>\n\n<p style="margin-top: 0px\; margin-bottom: 0px\;"><span>2)</span> <span>Healthcare Reform: The Exchanges are coming! Are you ready?</span></p>\n\n<p style="margin-top: 0px\; margin-bottom: 0px\;">&nbsp\;</p>\n\n<p style="margin-top: 0px\; margin-bottom: 0px\;"><span>Here is some information on the speaker:</span></p>\n\n<p style="margin-top: 0px\; margin-bottom: 0px\;">&nbsp\;</p>\n\n<p style="margin-top: 0px\; margin-bottom: 0px\;"><span>Brad is a Certified Employee Benefits Specialist (CEBS) at Wraith\, Scarlett\, and Randolph Insurance Services in Woodland\, CA. He offers a wide range of skills as a tactician\, economist\, and educator for health\, dental\, vision\, life\, disability\, and voluntary worksite insurance. Brad also advises clients in the area of retirement products including 401(k)\, Medicare\, and long-term care. </span></p>\n\n<p style="margin-top: 0px\; margin-bottom: 0px\;">&nbsp\;</p>\n\n<p style="margin-top: 0px\; margin-bottom: 0px\;">Education is vital to the success of an Employee Benefits package. Brad is able to communicate complex insurance strategies on a detailed yet simplified and personal level to both employers and employees. By offering choice and understanding\, employees will appreciate their benefits package exponentially more and allow employers to recruit and retain effectively.</p>\n.
LOCATION:Black Bear Diner 2700 El Centro Rd. Sacramento\, CA 95835
UID:e.1155.852
SEQUENCE:3
DTSTAMP:20260421T205145Z
URL:https://business.natomaschamber.org/events/details/lunch-and-learn-health-care-initiative-11-12-2013-852
END:VEVENT

END:VCALENDAR
