BEGIN:VCALENDAR
VERSION:2.0
PRODID:-//ChamberMaster//Event Calendar 2.0//EN
METHOD:PUBLISH
X-PUBLISHED-TTL:P3D
REFRESH-INTERVAL:P3D
CALSCALE:GREGORIAN
BEGIN:VEVENT
DTSTART:20120810T010000Z
DTEND:20120810T030000Z
X-MICROSOFT-CDO-ALLDAYEVENT:FALSE
SUMMARY:Kings Business Advantage
DESCRIPTION:The Sacramento Kings are hosting an Exclusive Event for Business Leaders in the Sacramento Region and You're Invited!\n	\n		At this exclusive event\, you will have the opportunity to engage with the Kings front office\, as well as network with fellow business owners and executives from around the Sacramento Region.\n	\n		Take part in this prestigious event and enjoy complimentary hors d'oeuvres\, beer and wine as you hear about amazing marketing and hospitality opportunities within our Kings Business Advantage Membership Program.\n	\n		Join YOUR Sacramento Kings and together WE can drive a ROI for your business!
X-ALT-DESC;FMTTYPE=text/html:<div style="color: gray">\n	<p align="left">\n		&nbsp\;</p>\n	<p align="justify">\n		<font size="5">The Sacramento Kings are hosting an Exclusive Event for Business Leaders in the Sacramento Region and You&rsquo\;re Invited!</font></p>\n	<p align="justify">\n		<font face="TradeGothic CondEighteen\,TradeGothic CondEighteen" size="4"><font face="TradeGothic CondEighteen\,TradeGothic CondEighteen" size="4">At this exclusive event\, you will have the opportunity to engage with the Kings front office\, as well as network with fellow business owners and executives from around the Sacramento Region.</font></font></p>\n	<p align="justify">\n		<font face="TradeGothic CondEighteen\,TradeGothic CondEighteen" size="4"><font face="TradeGothic CondEighteen\,TradeGothic CondEighteen" size="4">Take part in this prestigious event and enjoy complimentary hors d&rsquo\;oeuvres\, beer and wine as you hear about amazing marketing and hospitality opportunities within our Kings Business Advantage Membership Program.</font></font></p>\n	<p>\n		<font face="TradeGothic CondEighteen\,TradeGothic CondEighteen" size="4"><font face="TradeGothic CondEighteen\,TradeGothic CondEighteen" size="4">Join YOUR Sacramento Kings and together WE can drive a ROI for your business!<span _fck_bookmark="1" style="display: none">&nbsp\;</span></font></font></p>\n</div>\n
LOCATION:Power Balance Pavilion Sacramento Kings Court & Locker Room
UID:e.1155.597
SEQUENCE:3
DTSTAMP:20260422T191432Z
URL:https://business.natomaschamber.org/events/details/kings-business-advantage-08-09-2012-597
END:VEVENT

END:VCALENDAR
