BEGIN:VCALENDAR
VERSION:2.0
PRODID:-//ChamberMaster//Event Calendar 2.0//EN
METHOD:PUBLISH
X-PUBLISHED-TTL:P3D
REFRESH-INTERVAL:P3D
CALSCALE:GREGORIAN
BEGIN:VEVENT
DTSTART:20121010T170000Z
DTEND:20121010T210000Z
X-MICROSOFT-CDO-ALLDAYEVENT:FALSE
SUMMARY:Job Fair
DESCRIPTION:Sacramento Area Hiring Event coordinated by Kimberly Thompson
X-ALT-DESC;FMTTYPE=text/html:<div style="color: gray">\n	Sacramento Area Hiring Event coordinated by Kimberly Thompson&nbsp\;<span _fck_bookmark="1" style="display: none">&nbsp\;</span></div>\n
LOCATION:Harvard Business Park 5777 Madison Ave. Suite 121 Sacramento CA 95841
UID:e.1155.614
SEQUENCE:3
DTSTAMP:20260422T160044Z
URL:https://business.natomaschamber.org/events/details/job-fair-10-10-2012-614
END:VEVENT

END:VCALENDAR
