BEGIN:VCALENDAR
VERSION:2.0
PRODID:-//ChamberMaster//Event Calendar 2.0//EN
METHOD:PUBLISH
X-PUBLISHED-TTL:P3D
REFRESH-INTERVAL:P3D
CALSCALE:GREGORIAN
BEGIN:VEVENT
DTSTART:20120317T160000Z
DTEND:20120317T190000Z
X-MICROSOFT-CDO-ALLDAYEVENT:FALSE
SUMMARY:Internet Marketing
DESCRIPTION:Learn how to effectively use the internet as a component of your business marketing efforts.\n\n\n\nLEARN HOW TO\n\n\n\n\n	\n		Get your business online\n	\n		Employ web-based strategies to compete and win\n	\n		Measure the effectiveness of your internet strategy\n	\n		Adjust your internet strategy for changing condition\n\n\n\nPresented by SCORE. Space is limited. Registration for this class is REQUIRED  at sacscore.org
X-ALT-DESC;FMTTYPE=text/html:Learn how to effectively use the internet as a component of your business marketing efforts.<br />\n<br />\n<strong><u>LEARN HOW TO</u></strong><br />\n<br />\n<ul>\n	<li>\n		Get your business online</li>\n	<li>\n		Employ web-based strategies to compete and win</li>\n	<li>\n		Measure the effectiveness of your internet strategy</li>\n	<li>\n		Adjust your internet strategy for changing condition</li>\n</ul>\n<br />\nPresented by SCORE. Space is limited. Registration for this class is <strong><em><u>REQUIRED</u></em></strong>&nbsp\; at <a href="http://events.r20.constantcontact.com/register/event?oeidk=a07e5ixh2wvf4a527c3">sacscore.org</a>
LOCATION:North Natomas Library ( Community Room) 4660 Via Ingoglia Sacramento\, CA 95835
UID:e.1155.325
SEQUENCE:3
DTSTAMP:20260423T024449Z
URL:https://business.natomaschamber.org/events/details/internet-marketing-03-17-2012-325
END:VEVENT

END:VCALENDAR
