BEGIN:VCALENDAR
VERSION:2.0
PRODID:-//ChamberMaster//Event Calendar 2.0//EN
METHOD:PUBLISH
X-PUBLISHED-TTL:P3D
REFRESH-INTERVAL:P3D
CALSCALE:GREGORIAN
BEGIN:VEVENT
DTSTART:20140515T160000Z
DTEND:20140515T173000Z
X-MICROSOFT-CDO-ALLDAYEVENT:FALSE
SUMMARY:HR to Go Seminar ? Managing your Workers? Comp Claims and Basic OSHA Compliance
DESCRIPTION:The goal of this seminar is to inform individuals about what to do should an injury or illness occur on the job and certain training and safety procedures.  We will help to decipher when employees are eligible for workers' compensation benefits and explain what you should and shouldn't do if an employee gets injured in your facility.  You will learn about: what qualifies as a workers' compensation injury\; what you should do if a worker is injured\; how to reduce the risk of litigation\; and how to help injured workers get back to work.  Additionally\, the seminar will speak about OSHA (Occupational Safety and Health Administration) and how to properly assess different safety and training requirements.
X-ALT-DESC;FMTTYPE=text/html:<span style="font-family:arial narrow\,sans-serif\;"><span style="font-size:12.0pt\;">The goal of this seminar is to inform individuals about what to do should an injury or illness occur on the job and certain training and safety procedures.&nbsp\; We will help to decipher when employees are eligible for workers&rsquo\; compensation benefits and explain what you should and shouldn&rsquo\;t do if an employee gets injured in your facility.&nbsp\; You will learn about: what qualifies as a workers&rsquo\; compensation injury\; what you should do if a worker is injured\; how to reduce the risk of litigation\; and how to help injured workers get back to work.&nbsp\; Additionally\, the seminar will speak about OSHA (Occupational Safety and Health Administration) and how to properly assess different safety and training requirements.&nbsp\;</span></span>
LOCATION:3841 N. Freeway Blvd\, Ste 165 Sacramento\, CA 95834
UID:e.1155.1162
SEQUENCE:3
DTSTAMP:20260421T102649Z
URL:https://business.natomaschamber.org/events/details/hr-to-go-seminar-managing-your-workers-comp-claims-and-basic-osha-compliance-05-15-2014-1162
END:VEVENT

END:VCALENDAR
