BEGIN:VCALENDAR
VERSION:2.0
PRODID:-//ChamberMaster//Event Calendar 2.0//EN
METHOD:PUBLISH
X-PUBLISHED-TTL:P3D
REFRESH-INTERVAL:P3D
CALSCALE:GREGORIAN
BEGIN:VEVENT
DTSTART:20140619T160000Z
DTEND:20140619T173000Z
X-MICROSOFT-CDO-ALLDAYEVENT:FALSE
SUMMARY:HR to Go Seminar - Dealing with Difficult Employees
DESCRIPTION:Conflicts in the workplace are distracting\, uncomfortable\, and emotional.  It is a common challenge for managers to handle these situations while avoiding legal pitfalls.  But with the right tools and training\, managers can successfully resolve   and reduce   incidents.  In this seminar\, you'll learn about how to identify conflicts early and decide the best course of action\; specific action steps for handling conflicts effectively and legally\; and ways to reduce current workplace conflicts and prevent small squabbles from becoming full-blown incidents.
X-ALT-DESC;FMTTYPE=text/html:<span style="font-family:arial narrow\,sans-serif\;"><span style="font-size:12.0pt\;">Conflicts in the workplace are distracting\, uncomfortable\, and emotional.&nbsp\; It is a common challenge for managers to handle these situations while avoiding legal pitfalls.&nbsp\; But with the right tools and training\, managers can successfully resolve &ndash\; and reduce &ndash\; incidents.&nbsp\; In this seminar\, you&rsquo\;ll learn about how to identify conflicts early and decide the best course of action\; specific action steps for handling conflicts effectively and legally\; and ways to reduce current workplace conflicts and prevent small squabbles from becoming full-blown incidents.</span></span><br />\n&nbsp\;
LOCATION:3841 N. Freeway Blvd\, Ste 165 Sacramento\, CA 95834
UID:e.1155.1163
SEQUENCE:3
DTSTAMP:20260421T084644Z
URL:https://business.natomaschamber.org/events/details/hr-to-go-seminar-dealing-with-difficult-employees-06-19-2014-1163
END:VEVENT

END:VCALENDAR
