BEGIN:VCALENDAR
VERSION:2.0
PRODID:-//ChamberMaster//Event Calendar 2.0//EN
METHOD:PUBLISH
X-PUBLISHED-TTL:P3D
REFRESH-INTERVAL:P3D
CALSCALE:GREGORIAN
BEGIN:VEVENT
DTSTART:20120918T143000Z
DTEND:20120918T153000Z
X-MICROSOFT-CDO-ALLDAYEVENT:FALSE
SUMMARY:How to become a "Well run " business
DESCRIPTION:If you use the 3-Basics of a Well-Run \n	\n		business\, your's will grow. \n	\n		Join your fellow small business owners \n	\n		in this free series of 1-hr sessions\n\n		\n\n		This series starts August 21 and continues for the next 5-Tuesday mornings\, for a total of six weeks.  \n\n		This series starts August 21 and continues for the next 5-Tuesday mornings\, for a total of six weeks.
X-ALT-DESC;FMTTYPE=text/html:<div style="color: gray">\n	<p align="center" style="text-align: center\; margin-top: 0px\; margin-bottom: 0px\; font-size: 12pt">\n		<span>If you use the 3-Basics of a Well-Run </span></p>\n	<p align="center" style="text-align: center\; margin-top: 0px\; margin-bottom: 0px\; font-size: 12pt">\n		<span>business\, your&#39\;s</span><span style="font-size: 12pt"> will </span><span style="font-size: 12pt">grow</span><span style="font-size: 12pt">. </span></p>\n	<p align="center" style="text-align: center\; margin-top: 0px\; margin-bottom: 0px\; font-size: 12pt">\n		<span>Join your fellow small business owners </span></p>\n	<p align="center" style="text-align: center\; margin-top: 0px\; margin-bottom: 0px\; font-size: 12pt">\n		<span>in this </span><span>free</span><span> series of </span><span>1</span><span>-hr sessions<br />\n		<br />\n		This series starts August 21 and continues for the next 5-Tuesday mornings\, for a total of six weeks.&nbsp\;<span _fck_bookmark="1" style="display: none">&nbsp\;</span><br />\n		<span _fck_bookmark="1" style="display: none">This series starts August 21 and continues for the next 5-Tuesday mornings\, for a total of six weeks.&nbsp\;<span _fck_bookmark="1" style="display: none">&nbsp\;</span>&nbsp\;</span></span></p>\n</div>\n
LOCATION:Maidu Community Center 1550 Maidu Dr. Roseville\, CA 95661
UID:e.1155.602
SEQUENCE:3
DTSTAMP:20260422T175053Z
URL:https://business.natomaschamber.org/events/details/how-to-become-a-well-run-business-09-18-2012-602
END:VEVENT

END:VCALENDAR
