BEGIN:VCALENDAR
VERSION:2.0
PRODID:-//ChamberMaster//Event Calendar 2.0//EN
METHOD:PUBLISH
X-PUBLISHED-TTL:P3D
REFRESH-INTERVAL:P3D
CALSCALE:GREGORIAN
BEGIN:VEVENT
DTSTART:20121130T000000Z
DTEND:20121130T030000Z
X-MICROSOFT-CDO-ALLDAYEVENT:FALSE
SUMMARY:Holiday Tree Lighting for all of Natomas
DESCRIPTION:Tree Lighting - approximately 4:00 pm\n\n	Refreshments and entertainment\n\n	\n\n	Sponsored By:\n\n	\n\n	City of Sacramento Councilmembers:\n\n	    Steve Cohn\n\n	    Angelique Ashby\n\n	    Rob Fong\n\n	    and Neighborhood Services\n\n	FASTSIGNS of Sacramento/Natomas\n\n	Gardenland Northgate\n\n	     Neighborhood Association\n\n	Ms. T's Caf  at the Community Center\n\n	N Magazine\n\n	Natomas Buzz\n\n	Natomas Chamber of Commerce\n\n	Natomas Community Association\n\n	River Oaks Community Association\n\n	Sacramento Public Library\n\n	     South Natomas Branch\n\n	University of Phoenix\n\n	Umpqua Bank\n\n	Rotary Club of Natomas\n\n	Farrell Law Group\n\n	Walmart Natomas
X-ALT-DESC;FMTTYPE=text/html:<p>\n	Tree Lighting - approximately 4:00 pm<br />\n	Refreshments and entertainment<br />\n	<br />\n	Sponsored By:<br />\n	<br />\n	City of Sacramento Councilmembers:<br />\n	&nbsp\;&nbsp\;&nbsp\; Steve Cohn<br />\n	&nbsp\;&nbsp\;&nbsp\; Angelique Ashby<br />\n	&nbsp\;&nbsp\;&nbsp\; Rob Fong<br />\n	&nbsp\;&nbsp\;&nbsp\; and Neighborhood Services<br />\n	FASTSIGNS of Sacramento/Natomas<br />\n	Gardenland Northgate<br />\n	&nbsp\;&nbsp\;&nbsp\;&nbsp\; Neighborhood Association<br />\n	Ms. T&rsquo\;s Caf&eacute\; at the Community Center<br />\n	N Magazine<br />\n	Natomas Buzz<br />\n	Natomas Chamber of Commerce<br />\n	Natomas Community Association<br />\n	River Oaks Community Association<br />\n	Sacramento Public Library<br />\n	&nbsp\;&nbsp\;&nbsp\;&nbsp\; South Natomas Branch<br />\n	University of Phoenix<br />\n	Umpqua Bank<br />\n	Rotary Club of Natomas<br />\n	Farrell Law Group<br />\n	Walmart Natomas</p>\n
LOCATION:Natomas Community Center 2921 Truxel Road\, Sacramento
UID:e.1155.285
SEQUENCE:3
DTSTAMP:20260422T142516Z
URL:https://business.natomaschamber.org/events/details/holiday-tree-lighting-for-all-of-natomas-11-29-2012-285
END:VEVENT

END:VCALENDAR
