BEGIN:VCALENDAR
VERSION:2.0
PRODID:-//ChamberMaster//Event Calendar 2.0//EN
METHOD:PUBLISH
X-PUBLISHED-TTL:P3D
REFRESH-INTERVAL:P3D
CALSCALE:GREGORIAN
BEGIN:VEVENT
DTSTART:20111216T013000Z
DTEND:20111216T030000Z
X-MICROSOFT-CDO-ALLDAYEVENT:FALSE
SUMMARY:Holiday Mixer/Toy Drive-12/15/11
DESCRIPTION:This mixer is a special Holiday mixer.  Hosting and refreshments will be provided by Chamber member\, Four Points by Sheraton.  Members and non-members alike are invited.  Admission fee is waived in lieu of a new unwrapped toy or gift card that will be donated.  Everything collected will be gifted to active duty miliary families at both Beale and Travis Air Force Base. \n\n\n\nCome out and mingle with other Natomas Business Owners and community residents while showing your support of this worthy cause.
X-ALT-DESC;FMTTYPE=text/html:This mixer is a special Holiday mixer.&nbsp\; Hosting and refreshments will be provided by Chamber member\, Four Points by Sheraton.&nbsp\; Members and non-members alike are invited.&nbsp\; Admission fee is waived in lieu of a new unwrapped toy or gift card that will be donated.&nbsp\; Everything collected will be gifted to active duty miliary families at both Beale and Travis Air Force Base.&nbsp\;<br />\n<br />\nCome out and mingle with other Natomas Business Owners and community residents while showing your support of this worthy cause.
LOCATION:4900 Duckhorn Drive\, Sacramento CA 95835.
UID:e.1155.287
SEQUENCE:3
DTSTAMP:20260423T093259Z
URL:https://business.natomaschamber.org/events/details/holiday-mixer-toy-drive-12-15-11-12-15-2011-287
END:VEVENT

END:VCALENDAR
