BEGIN:VCALENDAR
VERSION:2.0
PRODID:-//ChamberMaster//Event Calendar 2.0//EN
METHOD:PUBLISH
X-PUBLISHED-TTL:P3D
REFRESH-INTERVAL:P3D
CALSCALE:GREGORIAN
BEGIN:VEVENT
DTSTART:20120516T180000Z
DTEND:20120516T190000Z
X-MICROSOFT-CDO-ALLDAYEVENT:FALSE
SUMMARY:Harbor Freight Tools Ribbon Cutting
DESCRIPTION:Please come show your support along with the Natomas Chamber as we welcome one of our newest members with a ribbon cutting. Harbor Freight Tools is located at 2361 Northgate Boulevard in Sacramento. The ribbon cutting will be on Wednesday\, May 16\, 2012 @ 11am. This will be a great event with live music\, food\, and drinks.
X-ALT-DESC;FMTTYPE=text/html:<div style="color: gray">\n	<strong><font color="#808080">Please come show your support along with the Natomas Chamber as we welcome one of our newest members with a ribbon cutting. Harbor Freight Tools is located at 2361 Northgate Boulevard in Sacramento. The ribbon cutting will be on Wednesday\, May 16\, 2012 @ 11am. This will be a great event with live music\, food\, and drinks.</font></strong></div>\n
LOCATION:Harbor Freight Tools 2361 Nothgate Blvd\, Sacramento\, CA 95833
UID:e.1155.584
SEQUENCE:3
DTSTAMP:20260422T233703Z
URL:https://business.natomaschamber.org/events/details/harbor-freight-tools-ribbon-cutting-05-16-2012-584
END:VEVENT

END:VCALENDAR
