BEGIN:VCALENDAR
VERSION:2.0
PRODID:-//ChamberMaster//Event Calendar 2.0//EN
METHOD:PUBLISH
X-PUBLISHED-TTL:P3D
REFRESH-INTERVAL:P3D
CALSCALE:GREGORIAN
BEGIN:VEVENT
DTSTART:20140613T160000Z
DTEND:20140613T210000Z
X-MICROSOFT-CDO-ALLDAYEVENT:FALSE
SUMMARY:Great Business Walk
DESCRIPTION:Good afternoon\,\n\n \n\nWe would like to invite you to join us on another great Business Walk!  Mark your calendars now!\n\n \n\nNorthgate on Friday\, June 13th!\n\n \n\nTo register please click here - Northgate - Register Here!\n\n \n\nThank you and hope to see you on June 13th!
X-ALT-DESC;FMTTYPE=text/html:<span style="font-size:12.0pt\;">Good afternoon\,</span>\n\n<div>&nbsp\;<br />\n<span style="color:#1f497d\;"><span style="font-size:12.0pt\;">W</span></span><span style="font-size:12.0pt\;">e would like to invite you to join us on another great Business Walk!&nbsp\; <span style="text-decoration:underline\;">Mark your calendars now!</span></span><br />\n&nbsp\;<br />\n<strong><span style="color:#558ed5\;"><span style="font-size:20.0pt\;">Northgate</span></span></strong> <span style="font-size:12.0pt\;">on </span><strong><span style="font-size:14.0pt\;">Friday\, June 13<sup>th</sup>!</span></strong><br />\n&nbsp\;<br />\n<span style="font-size:12.0pt\;">To register please click here - <a href="http://web.metrochamber.org/events/eventdetail.aspx?EventID=10468" target="_blank">Northgate - Register Here!</a></span><br />\n&nbsp\;<br />\n<span style="font-size:12.0pt\;">Thank you and hope to see you on June 13<sup>th</sup>! </span></div>\n
LOCATION:
UID:e.1155.1175
SEQUENCE:3
DTSTAMP:20260421T084442Z
URL:https://business.natomaschamber.org/events/details/great-business-walk-06-13-2014-1175
END:VEVENT

END:VCALENDAR
