BEGIN:VCALENDAR
VERSION:2.0
PRODID:-//ChamberMaster//Event Calendar 2.0//EN
METHOD:PUBLISH
X-PUBLISHED-TTL:P3D
REFRESH-INTERVAL:P3D
CALSCALE:GREGORIAN
BEGIN:VEVENT
DTSTART;VALUE=DATE:20140516
DTEND;VALUE=DATE:20140519
TRANSP:TRANSPARENT
X-MICROSOFT-CDO-ALLDAYEVENT:TRUE
SUMMARY:Grand Opening Event at The Soccer Galaxy
DESCRIPTION:Celebrating the Grand Opening of Natomas' Premier Soccer Shop.  We want to see everyone here and take advantage of the great prizes\, raffles\, giveaways and live DJ.  We will be raffling prizes away every 30 minutes.  Earn gift cards\, free soccer shoes\, soccer equipment\, Sac Republic FC Tickets.\n\n\n\nMay 16th 11am- 8pm\n\nMay 17th 9am- 5pm\n\nMay 18th 11am-4pm\n\n\n\n3270 Arena Blvd #400 (Next Door to Bel-Air)
X-ALT-DESC;FMTTYPE=text/html:Celebrating the Grand Opening of Natomas&#39\; Premier Soccer Shop. &nbsp\;We want to see everyone here and take advantage of the great prizes\, raffles\, giveaways and live DJ. &nbsp\;We will be raffling prizes away every 30 minutes. &nbsp\;Earn gift cards\, free soccer shoes\, soccer equipment\, Sac Republic FC Tickets.<br />\n<br />\nMay 16th 11am- 8pm<br />\nMay 17th 9am- 5pm<br />\nMay 18th 11am-4pm<br />\n<br />\n3270 Arena Blvd #400 (Next Door to Bel-Air) &nbsp\; &nbsp\;
LOCATION:3270 Arena Blvd #400\, Sacramento\, Ca. 95834
UID:e.1155.1169
SEQUENCE:3
DTSTAMP:20260421T115014Z
URL:https://business.natomaschamber.org/events/details/grand-opening-event-at-the-soccer-galaxy-05-16-2014-1169
END:VEVENT

END:VCALENDAR
