BEGIN:VCALENDAR
VERSION:2.0
PRODID:-//ChamberMaster//Event Calendar 2.0//EN
METHOD:PUBLISH
X-PUBLISHED-TTL:P3D
REFRESH-INTERVAL:P3D
CALSCALE:GREGORIAN
BEGIN:VEVENT
DTSTART:20140314T180000Z
DTEND:20140315T060000Z
X-MICROSOFT-CDO-ALLDAYEVENT:FALSE
SUMMARY:Grand Opening-Chicago's Pizza
DESCRIPTION:Ribbon cutting at 11am.  Free pizza slices from 11:00am-1:00pm.  Large pizzas only $10 each on Friday 3/14\, Sat 3/15\, and Sun 3/16.  Hope to see you there.
X-ALT-DESC;FMTTYPE=text/html:Ribbon cutting at 11am. &nbsp\;Free pizza slices from 11:00am-1:00pm. &nbsp\;Large pizzas only $10 each on Friday 3/14\, Sat 3/15\, and Sun 3/16. &nbsp\;Hope to see you there.
LOCATION:4391 Gateway Park Blvd\, Suite 600 Sacramento CA 95834
UID:e.1155.1152
SEQUENCE:3
DTSTAMP:20260421T144533Z
URL:https://business.natomaschamber.org/events/details/grand-opening-chicago-s-pizza-03-14-2014-1152
END:VEVENT

END:VCALENDAR
