BEGIN:VCALENDAR
VERSION:2.0
PRODID:-//ChamberMaster//Event Calendar 2.0//EN
METHOD:PUBLISH
X-PUBLISHED-TTL:P3D
REFRESH-INTERVAL:P3D
CALSCALE:GREGORIAN
BEGIN:VEVENT
DTSTART;VALUE=DATE:20130209
DTEND;VALUE=DATE:20130210
TRANSP:TRANSPARENT
X-MICROSOFT-CDO-ALLDAYEVENT:TRUE
SUMMARY:GRAND OPENING ACADEMY OF MARTIAL ARTS SACRAMENTO
DESCRIPTION:VICE MAYOR ANGELIQUE ASHBY CUTTING RIBBON
X-ALT-DESC;FMTTYPE=text/html:<p>\n	<span style="background-color:#ff0000\;"><strong><span style="font-family:arial\;"><span style="font-size:14px\;">VICE MAYOR ANGELIQUE ASHBY CUTTING RIBBON</span></span></strong></span></p>\n
LOCATION:3880 Truxel Road\, Suite 100 Natomas Village Sacramento CA 95834
UID:e.1155.757
SEQUENCE:3
DTSTAMP:20260422T093406Z
URL:https://business.natomaschamber.org/events/details/grand-opening-academy-of-martial-arts-sacramento-02-09-2013-757
END:VEVENT

END:VCALENDAR
