BEGIN:VCALENDAR
VERSION:2.0
PRODID:-//ChamberMaster//Event Calendar 2.0//EN
METHOD:PUBLISH
X-PUBLISHED-TTL:P3D
REFRESH-INTERVAL:P3D
CALSCALE:GREGORIAN
BEGIN:VEVENT
DTSTART:20140619T180000Z
DTEND:20140620T040000Z
X-MICROSOFT-CDO-ALLDAYEVENT:FALSE
SUMMARY:"Go Fore It!" Swing for Stanford Settlement Golf Tournament
DESCRIPTION:Stanford Settlement Neighborhood Center presents ?Go Fore It!? Swing 4 Stanford Settlement\, our \nannual Golf Tournament on Thursday\, June 19\, 2014 at Teal Bend Golf Club. Teal Bend Golf Club boasts 250 acres of natural wetlands\, lush fairways and rolling greens and will provide an ideal backdrop for a day of golfing with business associates\, potential clients\, and friends\, both old and new.  \n\nThere will be plenty of opportunities to win with many of your favorite contests! Back by popular demand is the $500 Grand Prize Raffle\, Gift Basket Raffle Prizes filled with loads of popular items including: wine\, gift certificates\, fine chocolates and gourmet items and a Silent Auction with the latest golf accessories. And\, back again this year\, make a hole-in-one and choose your ultimate golf vacation from eight of the world?s finest golf destinations including Barton Creek Resort & Spa in Austin and Cozumel Country Club in Mexico.
X-ALT-DESC;FMTTYPE=text/html:Stanford Settlement Neighborhood Center presents ?Go Fore It!? Swing 4 Stanford Settlement\, our \nannual Golf Tournament on Thursday\, June 19\, 2014 at Teal Bend Golf Club. Teal Bend Golf Club boasts 250 acres of natural wetlands\, lush fairways and rolling greens and will provide an ideal backdrop for a day of golfing with business associates\, potential clients\, and friends\, both old and new.  \n\nThere will be plenty of opportunities to win with many of your favorite contests! Back by popular demand is the $500 Grand Prize Raffle\, Gift Basket Raffle Prizes filled with loads of popular items including: wine\, gift certificates\, fine chocolates and gourmet items and a Silent Auction with the latest golf accessories. And\, back again this year\, make a hole-in-one and choose your ultimate golf vacation from eight of the world?s finest golf destinations including Barton Creek Resort &amp\; Spa in Austin and Cozumel Country Club in Mexico.\n
LOCATION:Teal Bend Golf Club: 7200 Garden Highway Sacramento\, CA 95837
UID:e.1155.1172
SEQUENCE:3
DTSTAMP:20260421T085227Z
URL:https://business.natomaschamber.org/events/details/go-fore-it-swing-for-stanford-settlement-golf-tournament-06-19-2014-1172
END:VEVENT

END:VCALENDAR
