BEGIN:VCALENDAR
VERSION:2.0
PRODID:-//ChamberMaster//Event Calendar 2.0//EN
METHOD:PUBLISH
X-PUBLISHED-TTL:P3D
REFRESH-INTERVAL:P3D
CALSCALE:GREGORIAN
BEGIN:VEVENT
DTSTART:20130620T190000Z
DTEND:20130621T040000Z
X-MICROSOFT-CDO-ALLDAYEVENT:FALSE
SUMMARY:"Go Fore It" Swing 4 Stanford Settlement
DESCRIPTION:Stanford Settlement Neighborhood Center presents "Go Fore It" Swing 4 Stanford Settlement\, our annual golf tournament.  There will be plenty of opportunities to win with many of your favorite contests!  Back by popular demand is the $500 Grand Prize Raffle\, Gift Basket Raffle prizes filled with loads of popular items including: wine\, gift certificates\, fine chocolates and gourmet items and a Silent Auction with the latest golf accessories.  And\, brand new this year\, make a hole-in-one and choose your ultimate golf vacation from eight of the world's finest golf destinations including Pinehurst in North Carolina\, Barton Creek Resort & Spa in Austin and Cozumel Country Club in Mexico.  Special incentive offer:  Register prior to April 1st and your name will be entered into a drawing for a really nice prize package!  ($500 Grand Prize Raffle tickets available for pre-event purchase\, need not be present to win.  For more information\, including sponsorship and registration\, please visit our website at: http://stanfordsettlement.org/news/go-fore-it-swing-4-stanford-settlement/
X-ALT-DESC;FMTTYPE=text/html:Stanford Settlement Neighborhood Center presents &quot\;Go Fore It&quot\; Swing 4 Stanford Settlement\, our annual golf tournament.&nbsp\; There will be plenty of opportunities to win with many of your favorite contests!&nbsp\; Back by popular demand is the $500 Grand Prize Raffle\, Gift Basket Raffle prizes filled with loads of popular items including: wine\, gift certificates\, fine chocolates and gourmet items and a Silent Auction with the latest golf accessories.&nbsp\; And\, brand new this year\, make a hole-in-one and choose your ultimate golf vacation from eight of the world&#39\;s finest golf destinations including Pinehurst in North Carolina\, Barton Creek Resort &amp\; Spa in Austin and Cozumel Country Club in Mexico.&nbsp\; Special incentive offer:&nbsp\; Register prior to April 1st and your name will be entered into a drawing for a really nice prize package!&nbsp\; ($500 Grand Prize Raffle tickets available for pre-event purchase\, need not be present to win.&nbsp\; For more information\, including sponsorship and registration\, please visit our website at: <a href="http://stanfordsettlement.org/news/go-fore-it-swing-4-stanford-settlement/">http://stanfordsettlement.org/news/go-fore-it-swing-4-stanford-settlement/</a><br />\n
LOCATION:Teal Bend Golf Course 7200 Garden Highway Sacramento\, CA 95837
UID:e.1155.759
SEQUENCE:3
DTSTAMP:20260422T024953Z
URL:https://business.natomaschamber.org/events/details/go-fore-it-swing-4-stanford-settlement-06-20-2013-759
END:VEVENT

END:VCALENDAR
