BEGIN:VCALENDAR
VERSION:2.0
PRODID:-//ChamberMaster//Event Calendar 2.0//EN
METHOD:PUBLISH
X-PUBLISHED-TTL:P3D
REFRESH-INTERVAL:P3D
CALSCALE:GREGORIAN
BEGIN:VEVENT
DTSTART:20110722T020000Z
DTEND:20110722T030000Z
X-MICROSOFT-CDO-ALLDAYEVENT:FALSE
SUMMARY:Friends of the North Natomas Library
DESCRIPTION:Meeting Thursday\, July 21 7:00 pm - 8:00 pm
X-ALT-DESC;FMTTYPE=text/html:Meeting Thursday\, July 21 7:00 pm - 8:00 pm
LOCATION:North Natomas Library (next to Inderkum High School)
UID:e.1155.262
SEQUENCE:3
DTSTAMP:20260423T161408Z
URL:https://business.natomaschamber.org/events/details/friends-of-the-north-natomas-library-07-21-2011-262
END:VEVENT

END:VCALENDAR
