BEGIN:VCALENDAR
VERSION:2.0
PRODID:-//ChamberMaster//Event Calendar 2.0//EN
METHOD:PUBLISH
X-PUBLISHED-TTL:P3D
REFRESH-INTERVAL:P3D
CALSCALE:GREGORIAN
BEGIN:VEVENT
DTSTART:20130427T160000Z
DTEND:20130427T160000Z
X-MICROSOFT-CDO-ALLDAYEVENT:FALSE
SUMMARY:Free E-Waste Recycling event
DESCRIPTION:Free Electronic Waste Drive-Through Drop off Fundraiser to help Divine Mercy Parish and Save the Environment! \n\n	\n\n	What: Free Electronic Waste Drop off Fundraiser\, Participants won't even have to get out of their car. Pop the trunk or open the door and we will unload for you!\n\n	Why: We are raising funds to support Divine Mercy educational efforts. \n\n	Where: 2231 Club Center Drive\, Sacramento\, CA. 95835\n\n	 \n\n	When: Saturday\, April 27th\n\n	Cost: Free Drive through Drop off\n\n	Information:  For more information\, call \n\n	David Leahy 415-999-0788 or Eric Watson 916-541-9301\n\n	Sponsored by CEAR\, INC \, California Electronic Asset Recovery a California state approved electronic waste collector and recycler. www.cearinc.com\n\n	We will accept: monitors\, televisions\, desktop and notebook PCs\, VCRs\, stereo equipment\, CD's\, speakers\, keyboards\, mice\, PDAs\, digital cameras\, zip drives\, telephones\, cell phones\, printers\, copiers\, laser and multifunction scanners and fax machines\, microwaves\, small household appliances such as toasters\, mixers & blenders\, vacuum cleaners with the dust bag removed\n\n	 \n\n	We cannot accept: Large Household Appliances (i.e. refrigerators\, washers\, dryers\, etc.)Furniture\, Hazardous Household Waste including batteries\, car batteries\, paint\, pesticides\, used oil\, cleaning supplies\, fluorescent light bulbs\, water heaters\, tires etc.  \n\n	For optimal security\, CEAR INC shreds all computer hard drives. The secure facility is monitored 24/7 by surveillance cameras.
X-ALT-DESC;FMTTYPE=text/html:<p>\n	<strong><span style="font-family: \;"><font color="#000000">Free Electronic Waste Drive-Through Drop off Fundraiser<span style="mso-spacerun: yes\;">&nbsp\;</span>to help Divine Mercy Parish and Save the Environment! </font></span></strong></p>\n<p style="margin: 0in 0in 0pt\; line-height: normal\;">\n	<br />\n	<span style="font-family: \;"><font color="#000000"><strong><span style="font-family: \;">What:</span></strong> Free Electronic Waste Drop off Fundraiser\, Participants won&rsquo\;t even have to get out of their car. Pop the trunk or open the door and we will unload for you!<br />\n	<b style="mso-bidi-font-weight: normal\;">Why: </b>We are raising funds to support Divine Mercy educational efforts. </font></span></p>\n<p style="margin: 0in 0in 0pt\; line-height: normal\;">\n	<font color="#000000"><strong><span style="font-family: \;">Where:</span></strong><span style="font-family: \;"> 2231 Club Center Drive\, Sacramento\, CA. 95835</span></font></p>\n<p align="center" class="MsoNormal" style="margin: 0in -9pt 0pt -0.25in\; text-align: center\;">\n	<strong><span style="font-family: \;"><font color="#000000" face="Times New Roman">&nbsp\;</font></span></strong></p>\n<p align="center" class="MsoNormal" style="margin: 0in -9pt 0pt -0.25in\; text-align: center\;">\n	<strong><span style="font-family: \;"><font color="#000000" size="3">When: </font></span></strong><span style="font-family: \;"><font color="#000000" size="3">Saturday\, April 27th<br />\n	<strong><span style="font-family: \;">Cost:</span></strong> </font><font size="3"><font color="#000000"><b style="mso-bidi-font-weight: normal\;">Free Drive through Drop off<br />\n	<strong><span style="font-family: \;">Information:</span></strong></b> &nbsp\;For more information\, call </font></font></span></p>\n<p align="center" class="MsoNormal" style="margin: 0in -9pt 0pt -0.25in\; text-align: center\;">\n	<span style="font-family: \;"><font size="3"><font color="#000000">David Leahy 415-999-0788 or Eric Watson 916-541-9301</font></font></span></p>\n<p class="MsoNormal" style="margin: 0in 0in 0pt\; mso-margin-bottom-alt: auto\; mso-margin-top-alt: auto\;">\n	<span style="font-family: \;"><font color="#000000" size="3">Sponsored by <i>CEAR\, INC</i> \, California Electronic Asset Recovery a <st1:state w:st="on"><st1:time w:st="on">California</st1:time></st1:state> state approved electronic waste collector and recycler. </font><a href="http://www.cearinc.com/"><font color="#1f70bb" size="3">www.cearinc.com</font></a></span></p>\n<p align="center" class="MsoNormal" style="margin: 0in 0in 0pt\; text-align: center\;">\n	<span century="" style="font-family: \;"><font color="#000000">We <b>will accept</b>: monitors\, televisions\, desktop and notebook PCs\, VCRs\, stereo equipment\, CD&rsquo\;s\, speakers\, keyboards\, mice\, PDAs\, digital cameras\, zip drives\, telephones\, cell phones\, printers\, copiers\, laser and multifunction scanners and fax machines\, microwaves\, small household appliances such as toasters\, mixers &amp\; blenders\, vacuum cleaners with the dust bag removed</font></span></p>\n<p align="center" class="MsoNormal" style="margin: 0in 0in 0pt\; text-align: center\;">\n	<span century="" style="font-family: \;"><font color="#000000" face="Times New Roman" size="2">&nbsp\;</font></span></p>\n<p align="center" class="MsoNormal" style="margin: 0in 0in 0pt\; text-align: center\;">\n	<span century="" style="font-family: \;"><font color="#000000">We <b style="mso-bidi-font-weight: normal\;">can<span style="mso-bidi-font-weight: bold\;">not accept:</span></b> Large Household Appliances (i.e. refrigerators\, washers\, dryers\, etc.)Furniture\, Hazardous Household Waste including batteries\, car batteries\, paint\, pesticides\, used oil\, cleaning supplies\, fluorescent light bulbs\, water heaters\, tires etc.<b>&nbsp\;&nbsp\;</b></font></span></p>\n<p class="MsoNormal" style="margin: 0in 0in 0pt\; mso-margin-bottom-alt: auto\; mso-margin-top-alt: auto\;">\n	<span style="font-family: \;"><font size="3"><font color="#000000">For optimal security\, CEAR INC shreds all computer hard drives. The secure facility is monitored 24/7 by surveillance cameras. </font></font></span></p>\n
LOCATION:2231 Club Center Drive\, Sacramento\, CA. 95835 2231 Club Center Drive\, Sacramento\, CA. 95835
UID:e.1155.796
SEQUENCE:3
DTSTAMP:20260422T055951Z
URL:https://business.natomaschamber.org/events/details/free-e-waste-recycling-event-04-27-2013-796
END:VEVENT

END:VCALENDAR
