BEGIN:VCALENDAR
VERSION:2.0
PRODID:-//ChamberMaster//Event Calendar 2.0//EN
METHOD:PUBLISH
X-PUBLISHED-TTL:P3D
REFRESH-INTERVAL:P3D
CALSCALE:GREGORIAN
BEGIN:VEVENT
DTSTART:20110923T131500Z
DTEND:20110923T200000Z
X-MICROSOFT-CDO-ALLDAYEVENT:FALSE
SUMMARY:Fifth Annual Natomas Scramble Golf Tournament 9/23/2011
DESCRIPTION:Sixth Annual Natomas Scramble Golf Tournament\n\n	Friday\, September 23\, 2011\n\n	\n\n	Teal Bend Golf Course\n\n	7200 Garden Highway\n\n	Sacramento\, CA 95837\n\n	\n\n	Registration:  6:15 am\n\n	Shotgun start:  7:00 am\n\n	Several sponsorship opportunities are also availa\n\n	\n\n	Click for Registration form and sponsorship signup or contact one of your Chamber Board members.
X-ALT-DESC;FMTTYPE=text/html:<p>\n	Sixth Annual Natomas Scramble Golf Tournament<br />\n	Friday\, September 23\, 2011<br />\n	<br />\n	Teal Bend Golf Course<br />\n	7200 Garden Highway<br />\n	Sacramento\, CA 95837<br />\n	<br />\n	Registration:&nbsp\; 6:15 am<br />\n	Shotgun start:&nbsp\; 7:00 am</p>\n<p>\n	Several sponsorship opportunities are also availa<br />\n	<br />\n	<a href="http://cloud.chambermaster.com/userfiles/UserFiles/chambers/1155/File/2022%20Golf%20Event/ncc_golf_flyer2011_e2.pdf">Click for Registration form and sponsorship signup</a> or contact one of your Chamber Board members.</p>\n
LOCATION:Teal Bend Golf Course 7200 Garden Highway Sacramento\, CA 95837
UID:e.1155.2
SEQUENCE:3
DTSTAMP:20260423T132206Z
URL:https://business.natomaschamber.org/events/details/fifth-annual-natomas-scramble-golf-tournament-9-23-2011-09-23-2011-2
END:VEVENT

END:VCALENDAR
