BEGIN:VCALENDAR
VERSION:2.0
PRODID:-//ChamberMaster//Event Calendar 2.0//EN
METHOD:PUBLISH
X-PUBLISHED-TTL:P3D
REFRESH-INTERVAL:P3D
CALSCALE:GREGORIAN
BEGIN:VEVENT
DTSTART:20120711T020000Z
DTEND:20120714T020000Z
X-MICROSOFT-CDO-ALLDAYEVENT:FALSE
SUMMARY:FCM International Business Conference
DESCRIPTION:FCM International Business Conference\n\n	Offering Success for Business workshops\n\n	 \n\n	July 10th - opening night 7pm\n\n	July 11-13th - workshops 9-11am\n\n	July 10-13th - evening sessions 7pm\n\n	 \n\n	Calvary Christian Center\n\n	2667 Del Paso Blvd. \n\n	Sacramento\, CA 95815\n\n	 \n\n	The Diligent Pursuit to Success\n\n	 \n\n	Fellowship Covenant Ministries International (FCMI)\n\n	Collaborative of pastors\, teachers and businessmen and women created to build and improve the leadership and business management skills of leaders in the body of Christ.\n\n	 \n\n	For more information and directions go to our website and register today\n\n	 \n\n	www.FCMInternationial.net\n\n	 \n\n	Fellowship Covenant Ministries International (FCMI) | PO Box 15010 | Sacramento\, CA 95851\n\n	Phone: 916.929.5725 | Email: Info@FCMInternational.net
X-ALT-DESC;FMTTYPE=text/html:<p class="MsoNormal" style="margin: 0in 0in 0pt">\n	<span style="line-height: 115%\; font-family: 'tahoma'\, 'sans-serif'\; color: #2a2a2a\; font-size: 10pt"><span style="line-height: 115%\; font-family: 'tahoma'\, 'sans-serif'\; color: #2a2a2a\; font-size: 10pt">FCM International Business Conference<o:p></o:p></span></span></p>\n<p class="MsoNormal" style="margin: 0in 0in 0pt">\n	<span style="line-height: 115%\; font-family: 'tahoma'\, 'sans-serif'\; color: #2a2a2a\; font-size: 10pt"><span style="line-height: 115%\; font-family: 'tahoma'\, 'sans-serif'\; color: #2a2a2a\; font-size: 10pt">Offering Success for Business workshops</span><span style="line-height: 115%\; font-size: 10pt"><o:p></o:p></span></span></p>\n<p class="MsoNormal" style="margin: 0in 0in 0pt">\n	<span style="line-height: 115%\; font-family: 'tahoma'\, 'sans-serif'\; color: #2a2a2a\; font-size: 10pt"><span style="line-height: 115%\; font-family: 'tahoma'\, 'sans-serif'\; color: #2a2a2a\; font-size: 10pt"><o:p>&nbsp\;</o:p></span></span></p>\n<p class="MsoNormal" style="margin: 0in 0in 0pt">\n	<span style="line-height: 115%\; font-family: 'tahoma'\, 'sans-serif'\; color: #2a2a2a\; font-size: 10pt"><span style="line-height: 115%\; font-family: 'tahoma'\, 'sans-serif'\; color: #2a2a2a\; font-size: 10pt">July 10th - opening night 7pm<br />\n	July 11-13th - workshops 9-11am<br />\n	July 10-13th - evening sessions 7pm</span></span></p>\n<p class="MsoNormal" style="margin: 0in 0in 0pt">\n	<span style="line-height: 115%\; font-family: 'tahoma'\, 'sans-serif'\; color: #2a2a2a\; font-size: 10pt"><span style="line-height: 115%\; font-size: 10pt"><o:p><font color="#000000">&nbsp\;</font></o:p></span></span></p>\n<p class="MsoNormal" style="margin: 0in 0in 0pt">\n	<span style="line-height: 115%\; font-family: 'tahoma'\, 'sans-serif'\; color: #2a2a2a\; font-size: 10pt"><span style="line-height: 115%\; font-size: 10pt"><font color="#000000">Calvary Christian Center<o:p></o:p></font></span></span></p>\n<p class="MsoNormal" style="margin: 0in 0in 0pt">\n	<span style="line-height: 115%\; font-family: 'tahoma'\, 'sans-serif'\; color: #2a2a2a\; font-size: 10pt"><span style="line-height: 115%\; font-size: 10pt"><font color="#000000">2667 Del Paso Blvd. <o:p></o:p></font></span></span></p>\n<p class="MsoNormal" style="margin: 0in 0in 0pt">\n	<span style="line-height: 115%\; font-family: 'tahoma'\, 'sans-serif'\; color: #2a2a2a\; font-size: 10pt"><span style="line-height: 115%\; font-size: 10pt"><font color="#000000">Sacramento\, CA 95815<o:p></o:p></font></span></span></p>\n<p class="MsoNormal" style="margin: 0in 0in 0pt">\n	<span style="line-height: 115%\; font-family: 'tahoma'\, 'sans-serif'\; color: #2a2a2a\; font-size: 10pt"><b style="mso-bidi-font-weight: normal"><span style="line-height: 115%\; font-size: 10pt"><o:p><font color="#000000">&nbsp\;</font></o:p></span></b></span></p>\n<p class="MsoNormal" style="margin: 0in 0in 0pt">\n	<span style="line-height: 115%\; font-family: 'tahoma'\, 'sans-serif'\; color: #2a2a2a\; font-size: 10pt"><b style="mso-bidi-font-weight: normal"><span style="line-height: 115%\; font-size: 10pt"><font color="#000000">The Diligent Pursuit to Success<o:p></o:p></font></span></b></span></p>\n<p class="MsoNormal" style="margin: 0in 0in 0pt">\n	<span style="line-height: 115%\; font-family: 'tahoma'\, 'sans-serif'\; color: #2a2a2a\; font-size: 10pt"><b style="mso-bidi-font-weight: normal"><span style="line-height: 115%\; font-size: 10pt"><o:p><font color="#000000">&nbsp\;</font></o:p></span></b></span></p>\n<p class="MsoNormal" style="margin: 0in 0in 0pt">\n	<span style="line-height: 115%\; font-family: 'tahoma'\, 'sans-serif'\; color: #2a2a2a\; font-size: 10pt"><font color="#000000"><b style="mso-bidi-font-weight: normal"><span style="line-height: 115%\; font-size: 10pt">F</span></b><span style="line-height: 115%\; font-size: 10pt">ellowship <b style="mso-bidi-font-weight: normal">C</b>ovenant <b style="mso-bidi-font-weight: normal">M</b>inistries International (FCMI)<o:p></o:p></span></font></span></p>\n<p class="MsoNormal" style="margin: 0in 0in 0pt">\n	<span style="line-height: 115%\; font-family: 'tahoma'\, 'sans-serif'\; color: #2a2a2a\; font-size: 10pt"><span style="line-height: 115%\; font-size: 10pt"><font color="#000000">Collaborative of pastors\, teachers and businessmen and women created to build and improve the leadership and business management skills of leaders in the body of Christ.<o:p></o:p></font></span></span></p>\n<p class="MsoNormal" style="margin: 0in 0in 0pt">\n	<span style="line-height: 115%\; font-family: 'tahoma'\, 'sans-serif'\; color: #2a2a2a\; font-size: 10pt"><span style="line-height: 115%\; font-size: 10pt"><o:p><font color="#000000">&nbsp\;</font></o:p></span></span></p>\n<p class="MsoNormal" style="margin: 0in 0in 0pt">\n	<span style="line-height: 115%\; font-family: 'tahoma'\, 'sans-serif'\; color: #2a2a2a\; font-size: 10pt"><span style="line-height: 115%\; font-size: 10pt"><font color="#000000">For more information and directions go to our website and register today<o:p></o:p></font></span></span></p>\n<p class="MsoNormal" style="margin: 0in 0in 0pt">\n	<span style="line-height: 115%\; font-family: 'tahoma'\, 'sans-serif'\; color: #2a2a2a\; font-size: 10pt"><span style="line-height: 115%\; font-size: 10pt"><o:p><font color="#000000">&nbsp\;</font></o:p></span></span></p>\n<p class="MsoNormal" style="margin: 0in 0in 0pt">\n	<span style="line-height: 115%\; font-family: 'tahoma'\, 'sans-serif'\; color: #2a2a2a\; font-size: 10pt"><span style="line-height: 115%\; font-size: 10pt"><a href="http://www.fcminternationial.net/"><font color="#0000ff">www.FCMInternationial.net</font></a><o:p></o:p></span></span></p>\n<p class="MsoNormal" style="margin: 0in 0in 0pt">\n	<span style="line-height: 115%\; font-family: 'tahoma'\, 'sans-serif'\; color: #2a2a2a\; font-size: 10pt"><span style="line-height: 115%\; font-size: 10pt"><o:p><font color="#000000">&nbsp\;</font></o:p></span></span></p>\n<p class="MsoNormal" style="margin: 0in 0in 0pt">\n	<span style="line-height: 115%\; font-family: 'tahoma'\, 'sans-serif'\; color: #2a2a2a\; font-size: 10pt"><span style="line-height: 115%\; font-size: 10pt"><font color="#000000">Fellowship Covenant Ministries International (FCMI) | PO Box 15010 | Sacramento\, CA 95851<o:p></o:p></font></span></span></p>\n<p class="MsoNormal" style="margin: 0in 0in 0pt">\n	<span style="line-height: 115%\; font-family: 'tahoma'\, 'sans-serif'\; color: #2a2a2a\; font-size: 10pt"><span style="line-height: 115%\; font-size: 10pt"><font color="#000000">Phone: 916.929.5725 | Email: Info@FCMInternational.net<o:p></o:p></font></span></span></p>\n<p class="MsoNormal" style="margin: 0in 0in 0pt">\n	<span style="line-height: 115%\; font-family: 'tahoma'\, 'sans-serif'\; color: #2a2a2a\; font-size: 10pt"><span style="line-height: 115%\; font-size: 10pt"><o:p><font color="#000000">&nbsp\;</font></o:p></span></span></p>\n
LOCATION:2667 Del Paso Blvd. Sacramento\, CA 95815
UID:e.1155.592
SEQUENCE:3
DTSTAMP:20260422T205643Z
URL:https://business.natomaschamber.org/events/details/fcm-international-business-conference-07-10-2012-592
END:VEVENT

END:VCALENDAR
