BEGIN:VCALENDAR
VERSION:2.0
PRODID:-//ChamberMaster//Event Calendar 2.0//EN
METHOD:PUBLISH
X-PUBLISHED-TTL:P3D
REFRESH-INTERVAL:P3D
CALSCALE:GREGORIAN
BEGIN:VEVENT
DTSTART:20120622T200000Z
DTEND:20120623T030000Z
X-MICROSOFT-CDO-ALLDAYEVENT:FALSE
SUMMARY:Event at Stanford Settlement
DESCRIPTION:Join us for a day of golf\, great food\, and opportunities to win great prizes. Grand Prize Raffle: $500 CASH (need not be present to win). Gift basket raffle: tickets sold at Dinner on day of event.\n\n\n\nTouranment Prizes:\n\n	\n		Blind Bogey - Men\, Women & Mixed\n	\n		Longest Drive - Men & Women\n	\n		Closest to the Pin - Men & Women\n	\n		Most FUN Award\n\nAll proceeds to benefit the Children\, Teens and Seniors of Stanford Settlement.
X-ALT-DESC;FMTTYPE=text/html:Join us for a day of golf\, great food\, and opportunities to win great prizes. Grand Prize Raffle: $500 CASH (need not be present to win). Gift basket raffle: tickets sold at Dinner on day of event.<br />\n<br />\nTouranment Prizes:\n<ul>\n	<li>\n		Blind Bogey - Men\, Women &amp\; Mixed</li>\n	<li>\n		Longest Drive - Men &amp\; Women</li>\n	<li>\n		Closest to the Pin - Men &amp\; Women</li>\n	<li>\n		Most FUN Award</li>\n</ul>\nAll proceeds to benefit the Children\, Teens and Seniors of Stanford Settlement. 
LOCATION:Teal Bend Golf Club 7200 Garden Highway Sacramento\, CA 95837
UID:e.1155.313
SEQUENCE:3
DTSTAMP:20260422T221813Z
URL:https://business.natomaschamber.org/events/details/event-at-stanford-settlement-06-22-2012-313
END:VEVENT

END:VCALENDAR
