BEGIN:VCALENDAR
VERSION:2.0
PRODID:-//ChamberMaster//Event Calendar 2.0//EN
METHOD:PUBLISH
X-PUBLISHED-TTL:P3D
REFRESH-INTERVAL:P3D
CALSCALE:GREGORIAN
BEGIN:VEVENT
DTSTART:20120525T141500Z
DTEND:20120525T150000Z
X-MICROSOFT-CDO-ALLDAYEVENT:FALSE
SUMMARY:Event at Rotary Club of Natomas
DESCRIPTION:Rotary Club of Natomas Meeting -\n\n\n\nSpeaker - Dennis Spear\n\nPublisher - N Magazine
X-ALT-DESC;FMTTYPE=text/html:Rotary Club of Natomas Meeting -<br />\n<br />\nSpeaker - Dennis Spear<br />\nPublisher - N Magazine
LOCATION:Hampton Inn and Suites - 3021 Advantage Way\, Sacramento\, CA
UID:e.1155.582
SEQUENCE:3
DTSTAMP:20260423T012622Z
URL:https://business.natomaschamber.org/events/details/event-at-rotary-club-of-natomas-05-25-2012-582
END:VEVENT

END:VCALENDAR
