BEGIN:VCALENDAR
VERSION:2.0
PRODID:-//ChamberMaster//Event Calendar 2.0//EN
METHOD:PUBLISH
X-PUBLISHED-TTL:P3D
REFRESH-INTERVAL:P3D
CALSCALE:GREGORIAN
BEGIN:VEVENT
DTSTART:20120302T150000Z
DTEND:20120302T160000Z
X-MICROSOFT-CDO-ALLDAYEVENT:FALSE
SUMMARY:Event at Rotary Club of Natomas
DESCRIPTION:Rotary Club Speech Contest  - Students from local high schools speaking on:  "Reach within to Embrace Humanity".
X-ALT-DESC;FMTTYPE=text/html:<p>\n	Rotary Club Speech Contest&nbsp\; - Students from local high schools speaking on:&nbsp\; &quot\;Reach within to Embrace Humanity&quot\;.</p>\n
LOCATION:Hampton Inn and Suites\, 3021 Advantage Way\, Sacramento\, CA
UID:e.1155.311
SEQUENCE:3
DTSTAMP:20260423T024736Z
URL:https://business.natomaschamber.org/events/details/event-at-rotary-club-of-natomas-03-02-2012-311
END:VEVENT

END:VCALENDAR
