BEGIN:VCALENDAR
VERSION:2.0
PRODID:-//ChamberMaster//Event Calendar 2.0//EN
METHOD:PUBLISH
X-PUBLISHED-TTL:P3D
REFRESH-INTERVAL:P3D
CALSCALE:GREGORIAN
BEGIN:VEVENT
DTSTART:20120224T150000Z
DTEND:20120224T160000Z
X-MICROSOFT-CDO-ALLDAYEVENT:FALSE
SUMMARY:Event at Rotary Club of Natomas
DESCRIPTION:Club Meeting - Progam - "The Wit and Wisdom of Abraham Lincoln
X-ALT-DESC;FMTTYPE=text/html:Club Meeting - Progam - &quot\;The Wit and Wisdom of Abraham Lincoln
LOCATION:Hampton Inn and Suites - 3021 Advantage Way\, Sacramento CA
UID:e.1155.310
SEQUENCE:3
DTSTAMP:20260423T040729Z
URL:https://business.natomaschamber.org/events/details/event-at-rotary-club-of-natomas-02-24-2012-310
END:VEVENT

END:VCALENDAR
