BEGIN:VCALENDAR
VERSION:2.0
PRODID:-//ChamberMaster//Event Calendar 2.0//EN
METHOD:PUBLISH
X-PUBLISHED-TTL:P3D
REFRESH-INTERVAL:P3D
CALSCALE:GREGORIAN
BEGIN:VEVENT
DTSTART:20120120T150000Z
DTEND:20120120T160000Z
X-MICROSOFT-CDO-ALLDAYEVENT:FALSE
SUMMARY:Event at Rotary Club of Natomas
DESCRIPTION:Club Meeting  - Speaker - Sacramento Zoo
X-ALT-DESC;FMTTYPE=text/html:<p>\n	Club Meeting &nbsp\;- Speaker - Sacramento Zoo</p>\n
LOCATION:Hampton Inn and Suites - 3021 Advantage Way Sacramento\, CA
UID:e.1155.309
SEQUENCE:3
DTSTAMP:20260423T054312Z
URL:https://business.natomaschamber.org/events/details/event-at-rotary-club-of-natomas-01-20-2012-309
END:VEVENT

END:VCALENDAR
