BEGIN:VCALENDAR
VERSION:2.0
PRODID:-//ChamberMaster//Event Calendar 2.0//EN
METHOD:PUBLISH
X-PUBLISHED-TTL:P3D
REFRESH-INTERVAL:P3D
CALSCALE:GREGORIAN
BEGIN:VEVENT
DTSTART:20140507T014500Z
DTEND:20140507T033000Z
X-MICROSOFT-CDO-ALLDAYEVENT:FALSE
SUMMARY:Event at Primerica
DESCRIPTION:CAREER ORIENTATION FINANCIAL OPEN HOUSE\n\nQualify\, Train\, Grow and Build with a TOP Fortune 500 Company\n\nCareer Training Provided with No Experience Necessary\n\nReceive Bonus Money $$ While in Training\n\nFull-time and Part-time available
X-ALT-DESC;FMTTYPE=text/html:CAREER ORIENTATION FINANCIAL OPEN HOUSE<br />\nQualify\, Train\, Grow and Build with a TOP Fortune 500 Company<br />\nCareer Training Provided with No Experience Necessary<br />\nReceive Bonus Money $$ While in Training<br />\nFull-time and Part-time available<br />\n&nbsp\;
LOCATION:9719 Lincoln Village Drive\, Bldg 500\, Ste 500\, Sacramento\, CA 95827
UID:e.1155.1171
SEQUENCE:3
DTSTAMP:20260421T101011Z
URL:https://business.natomaschamber.org/events/details/event-at-primerica-05-06-2014-1171
END:VEVENT

END:VCALENDAR
