BEGIN:VCALENDAR
VERSION:2.0
PRODID:-//ChamberMaster//Event Calendar 2.0//EN
METHOD:PUBLISH
X-PUBLISHED-TTL:P3D
REFRESH-INTERVAL:P3D
CALSCALE:GREGORIAN
BEGIN:VEVENT
DTSTART;VALUE=DATE:20120421
DTEND;VALUE=DATE:20120423
TRANSP:TRANSPARENT
X-MICROSOFT-CDO-ALLDAYEVENT:TRUE
SUMMARY:Event at Natomas Racquet Club
DESCRIPTION:Natomas Racquet has formed a team for the 2012 Relay For Life event at Natomas High School April 21st beginning at 9am! Relay For Life is a family-oriented event\, where participants can walk or run on a track relay-style for 24 hours. Participant's camp around the track\, and when they are not taking their turn they take part in other fun activities. Former and current cancer patients\, their families\, and the public are invited to take part in this exciting team relay event. It is a group of people Fighting Back against cancer\, as we hope to raise money so one day we can find a cure!\n\n\n\nWith two million volunteers nationwide\, the American Cancer Society fights the disease on all fronts: research\, education\, advocacy\, and service. I'm committed to being a part of this amazing work as\, like most\, I have personal experience with this horrible disease.\n\nThere are two ways to participate:\n\n1) Join our team! All fees have been paid so joining is free. There is no fundraising obligation. Just show up and join in the fun. Of course we hope you raise some money for the cause but this is not a requirement. All team participants will Receive a Natomas Racquet Club Team shirt. Many local business and residents will be participating as well. Join our team early and we will put your name on the team shirt as well use your name in recruiting.\n\n\n\nTo join our team or for more information click the link below:\n\nhttp://main.acsevents.org/site/TR/RelayForLife/RFLFY12CA?pg=team&fr_id=36847&team_id=1115948\n\n\n\n\n\n2) This is a grass roots effort and we look toward local businesses to help out by donating food\, drinks\, and gift certificates of all kinds to help make our event fun and rewarding. We also ask for the community to support our efforts by making a monetary contribution to sponsor our team. Any donation is appreciated.\n\n\n\nIf you know someone that may be interested please forward this email. Please don't hesitate to contact me with any questions.\n\n\n\n\n\nTogether We Can Make A Difference\,\n\n\n\nJoel Wheeler\n\nMarketing Director\n\nNatomas Racquet Club
X-ALT-DESC;FMTTYPE=text/html:Natomas Racquet has formed a team for the 2012 Relay For Life event at Natomas High School April 21st beginning at 9am! Relay For Life is a family-oriented event\, where participants can walk or run on a track relay-style for 24 hours. Participant&rsquo\;s camp around the track\, and when they are not taking their turn they take part in other fun activities. Former and current cancer patients\, their families\, and the public are invited to take part in this exciting team relay event. It is a group of people Fighting Back against cancer\, as we hope to raise money so one day we can find a cure!<br />\n<br />\nWith two million volunteers nationwide\, the American Cancer Society fights the disease on all fronts: research\, education\, advocacy\, and service. I&rsquo\;m committed to being a part of this amazing work as\, like most\, I have personal experience with this horrible disease.<br />\nThere are two ways to participate:<br />\n1) Join our team! All fees have been paid so joining is free. There is no fundraising obligation. Just show up and join in the fun. Of course we hope you raise some money for the cause but this is not a requirement. All team participants will Receive a Natomas Racquet Club Team shirt. Many local business and residents will be participating as well. Join our team early and we will put your name on the team shirt as well use your name in recruiting.<br />\n<br />\nTo join our team or for more information click the link below:<br />\n<a href="http://main.acsevents.org/site/TR/RelayForLife/RFLFY12CA?pg=team&amp\;fr_id=36847&amp\;team_id=1115948">http://main.acsevents.org/site/TR/RelayForLife/RFLFY12CA?pg=team&amp\;fr_id=36847&amp\;team_id=1115948</a><br />\n<br />\n<br />\n2) This is a grass roots effort and we look toward local businesses to help out by donating food\, drinks\, and gift certificates of all kinds to help make our event fun and rewarding. We also ask for the community to support our efforts by making a monetary contribution to sponsor our team. Any donation is appreciated.<br />\n<br />\nIf you know someone that may be interested please forward this email. Please don&#39\;t hesitate to contact me with any questions.<br />\n<br />\n<br />\nTogether We Can Make A Difference\,<br />\n<br />\nJoel Wheeler<br />\nMarketing Director<br />\nNatomas Racquet Club<br />\n
LOCATION:Natomas High School
UID:e.1155.312
SEQUENCE:3
DTSTAMP:20260423T024343Z
URL:https://business.natomaschamber.org/events/details/event-at-natomas-racquet-club-04-21-2012-312
END:VEVENT

END:VCALENDAR
