BEGIN:VCALENDAR
VERSION:2.0
PRODID:-//ChamberMaster//Event Calendar 2.0//EN
METHOD:PUBLISH
X-PUBLISHED-TTL:P3D
REFRESH-INTERVAL:P3D
CALSCALE:GREGORIAN
BEGIN:VEVENT
DTSTART;VALUE=DATE:20120608
DTEND;VALUE=DATE:20120609
TRANSP:TRANSPARENT
X-MICROSOFT-CDO-ALLDAYEVENT:TRUE
SUMMARY:Event at Harbor Freight Tools
DESCRIPTION:Parking lot Sale !!!!!!!! begins 8:00am.Inside Track Club members gain access at 7:00.
X-ALT-DESC;FMTTYPE=text/html:Parking lot Sale !!!!!!!! begins 8:00am.Inside Track Club members gain access at 7:00.
LOCATION:2361 Northgate Blvd Sacramento CA 95833
UID:e.1155.588
SEQUENCE:3
DTSTAMP:20260422T221009Z
URL:https://business.natomaschamber.org/events/details/event-at-harbor-freight-tools-06-08-2012-588
END:VEVENT

END:VCALENDAR
