BEGIN:VCALENDAR
VERSION:2.0
PRODID:-//ChamberMaster//Event Calendar 2.0//EN
METHOD:PUBLISH
X-PUBLISHED-TTL:P3D
REFRESH-INTERVAL:P3D
CALSCALE:GREGORIAN
BEGIN:VEVENT
DTSTART:20111213T160000Z
DTEND:20111213T180000Z
X-MICROSOFT-CDO-ALLDAYEVENT:FALSE
SUMMARY:Event at Councilmember Steve Cohn\, City of Sacramento
DESCRIPTION:Open House for proposed Northgate Property and Business Improvement District (PBID).   Property and business owners are invited to stop by to learn more about PBID's and hear about the effort under way.
X-ALT-DESC;FMTTYPE=text/html:<p>\n	Open House for proposed Northgate Property and Business Improvement District (PBID).&nbsp\;&nbsp\; Property and business owners are invited to stop by to learn more about PBID&#39\;s and hear about the&nbsp\;effort under way.<br />\n	&nbsp\;</p>\n
LOCATION:Stanford Settlement\, 450 West El Camino Avenue
UID:e.1155.288
SEQUENCE:3
DTSTAMP:20260423T074336Z
URL:https://business.natomaschamber.org/events/details/event-at-councilmember-steve-cohn-city-of-sacramento-12-13-2011-288
END:VEVENT

END:VCALENDAR
