BEGIN:VCALENDAR
VERSION:2.0
PRODID:-//ChamberMaster//Event Calendar 2.0//EN
METHOD:PUBLISH
X-PUBLISHED-TTL:P3D
REFRESH-INTERVAL:P3D
CALSCALE:GREGORIAN
BEGIN:VEVENT
DTSTART:20120511T140000Z
DTEND:20120511T153000Z
X-MICROSOFT-CDO-ALLDAYEVENT:FALSE
SUMMARY:Event at BNI Natomas Founders
DESCRIPTION:BNI Natomas Founders Weekly Professional Networking Meeting
X-ALT-DESC;FMTTYPE=text/html:BNI Natomas Founders Weekly Professional Networking Meeting
LOCATION:Black Bear Diner\, 2700 El Centro Rd\, Sacramento\, CA. 95833
UID:e.1155.585
SEQUENCE:3
DTSTAMP:20260423T011401Z
URL:https://business.natomaschamber.org/events/details/event-at-bni-natomas-founders-05-11-2012-585
END:VEVENT

END:VCALENDAR
