BEGIN:VCALENDAR
VERSION:2.0
PRODID:-//ChamberMaster//Event Calendar 2.0//EN
METHOD:PUBLISH
X-PUBLISHED-TTL:P3D
REFRESH-INTERVAL:P3D
CALSCALE:GREGORIAN
BEGIN:VEVENT
DTSTART:20110929T000000Z
DTEND:20110929T040000Z
X-MICROSOFT-CDO-ALLDAYEVENT:FALSE
SUMMARY:Event at Black Bear Diner
DESCRIPTION:You're Invited to our\n\nBIRTHDAY BASH!!\n\nWe are celebrating one year in Sacramento!\n\n\n\nWEDNESDAY\, SEPTEMBER 28th\n\n\n\nLimited Space Available\, Don't miss out!\n\n\n\nCall ahead to reserve your spot for a special evening with Mr. & Mrs. Bear at either the 5pm or the 7pm seating in our spacious banquet room.\n\n\n\nOur three-course dinner will feature salad and cornbread\, dinner complete with sides and dessert!\n\nBacon Wrapped Stuffed Chicken Dinner - $9.99\n\nPot Roast Dinner - $9.99\n\nPrime Rib Dinner - $14.99\n\nFountain drinks & coffee are included with your dinner\, as well as a special Ice Cream Sundae!\n\n(offer only good with banquet room seating)\n\n\n\nWin Door Prizes!\n\nBlack Bear Merchandise\n\nFree Hotel Stay\n\nMovie Passes & More\n\n\n\nWe are delighted to honor our wonderful guests for being part of an enjoyable first year!  Thank you for being the reason our staff love coming to work every day!\n\n\n\nCall for reservations 916-641-2327 or email manager@blackbearsac.com\n\n\n\n2700 El Centro Rd.
X-ALT-DESC;FMTTYPE=text/html:You&#39\;re Invited to our<br />\n<strong>BIRTHDAY BASH!!</strong><br />\nWe are celebrating one year in Sacramento!<br />\n<br />\n<strong>WEDNESDAY\, SEPTEMBER 28th</strong><br />\n<br />\nLimited Space Available\, Don&#39\;t miss out!<br />\n<br />\nCall ahead to reserve your spot for a special evening with Mr. &amp\; Mrs. Bear at either the 5pm or the 7pm seating in our spacious banquet room.<br />\n<br />\nOur three-course dinner will feature salad and cornbread\, dinner complete with sides and dessert!<br />\nBacon Wrapped Stuffed Chicken Dinner - $9.99<br />\nPot Roast Dinner - $9.99<br />\nPrime Rib Dinner - $14.99<br />\nFountain drinks &amp\; coffee are included with your dinner\, as well as a special Ice Cream Sundae!<br />\n(offer only good with banquet room seating)<br />\n<br />\n<strong>Win Door Prizes!</strong><br />\nBlack Bear Merchandise<br />\nFree Hotel Stay<br />\nMovie Passes &amp\; More<br />\n<br />\nWe are delighted to honor our wonderful guests for being part of an enjoyable first year!&nbsp\; Thank you for being the reason our staff love coming to work every day!<br />\n<br />\nCall for reservations 916-641-2327 or email manager@blackbearsac.com<br />\n<br />\n2700 El Centro Rd.
LOCATION:2700 El Centro Rd.
UID:e.1155.281
SEQUENCE:3
DTSTAMP:20260423T131931Z
URL:https://business.natomaschamber.org/events/details/event-at-black-bear-diner-09-28-2011-281
END:VEVENT

END:VCALENDAR
