BEGIN:VCALENDAR
VERSION:2.0
PRODID:-//ChamberMaster//Event Calendar 2.0//EN
METHOD:PUBLISH
X-PUBLISHED-TTL:P3D
REFRESH-INTERVAL:P3D
CALSCALE:GREGORIAN
BEGIN:VEVENT
DTSTART:20120427T003000Z
DTEND:20120427T020000Z
X-MICROSOFT-CDO-ALLDAYEVENT:FALSE
SUMMARY:Evening Mixer-Walmart/Tokyo Steakhouse-4/26/12
DESCRIPTION:Our Monthly Business Mixers are great opportunities to share your business products and services with others in the local business community.\n\n\n\nJoin us for some appetizers and refreshments as we exchange business cards\, leads and referrals.\n\n\n\nIf you are a MEMBER and bring a raffle item (bottle of wine\, gift card\, etc) we will give you a 30 second commercial to present yourself and your business/company. Bring plenty of business cards.\n\n\n\nMembers are FREE and non-members are $10.00
X-ALT-DESC;FMTTYPE=text/html:Our Monthly Business Mixers are great opportunities to share your business products and services with others in the local business community.<br />\n<br />\nJoin us for some appetizers and refreshments as we exchange business cards\, leads and referrals.<br />\n<br />\nIf you are a <u><em><strong>MEMBER </strong></em></u>and bring a raffle item (bottle of wine\, gift card\, etc) we will give you a 30 second commercial to present yourself and your business/company. Bring plenty of business cards.<br />\n<br />\nMembers are FREE and non-members are $10.00
LOCATION:Tokyo Steakhouse 3521 North Freeway Boulevard\, Suite 100 Sacramento\, CA 95834
UID:e.1155.316
SEQUENCE:3
DTSTAMP:20260423T024730Z
URL:https://business.natomaschamber.org/events/details/evening-mixer-walmart-tokyo-steakhouse-4-26-12-04-26-2012-316
END:VEVENT

END:VCALENDAR
