BEGIN:VCALENDAR
VERSION:2.0
PRODID:-//ChamberMaster//Event Calendar 2.0//EN
METHOD:PUBLISH
X-PUBLISHED-TTL:P3D
REFRESH-INTERVAL:P3D
CALSCALE:GREGORIAN
BEGIN:VEVENT
DTSTART:20110923T003000Z
DTEND:20110923T020000Z
X-MICROSOFT-CDO-ALLDAYEVENT:FALSE
SUMMARY:Evening Mixer - On The Border
DESCRIPTION:Our Monthly Business Mixers are great opportunities to share your business products and services with others in the local business community.\n\n\n\nJoin us for some appetizers and refreshments as we exchange business cards\, leads and referrals.\n\n\n\nIf you are a MEMBER and bring a raffle item (bottle of wine\, gift card\, etc) we will give you a 30 second commercial to present yourself and your business/company. Bring plenty of business cards. Members are FREE and non-members are $10.00
X-ALT-DESC;FMTTYPE=text/html:Our Monthly Business Mixers are great opportunities to share your business products and services with others in the local business community.<br />\n<br />\nJoin us for some appetizers and refreshments as we exchange business cards\, leads and referrals.<br />\n<br />\nIf you are a <u><em><strong>MEMBER</strong></em></u> and bring a raffle item (bottle of wine\, gift card\, etc) we will give you a 30 second commercial to present yourself and your business/company. Bring plenty of business cards. Members are FREE and non-members are $10.00
LOCATION:The September 2011 Evening Mixer will be hosted by "On the Border" one of our newest members. On the Border is located in the Walmart shopping center at Truxel & I-80. The address is 3521 Truxel Road\, Sacramento 95834.
UID:e.1155.273
SEQUENCE:3
DTSTAMP:20260423T132057Z
URL:https://business.natomaschamber.org/events/details/evening-mixer-on-the-border-09-22-2011-273
END:VEVENT

END:VCALENDAR
