BEGIN:VCALENDAR
VERSION:2.0
PRODID:-//ChamberMaster//Event Calendar 2.0//EN
METHOD:PUBLISH
X-PUBLISHED-TTL:P3D
REFRESH-INTERVAL:P3D
CALSCALE:GREGORIAN
BEGIN:VEVENT
DTSTART:20110527T003000Z
DTEND:20110527T020000Z
X-MICROSOFT-CDO-ALLDAYEVENT:FALSE
SUMMARY:Evening Mixer May 26 - Natomas Rose Garden
DESCRIPTION:Our Monthly Business Mixers are great opportunities to share your business products and services with others in the local business community.\n\n\n\nJoin us for some appetizers and refreshments as we exchange business cards\, leads and referrals.\n\n\n\nIf you bring a raffle item (bottle of wine\, gift card\, etc) we will give you a 30 second commercial to present yourself and your business/company. Bring plenty of business cards. Members are FREE and non-members are $10.00
X-ALT-DESC;FMTTYPE=text/html:Our Monthly Business Mixers are great opportunities to share your business products and services with others in the local business community.<br />\n<br />\nJoin us for some appetizers and refreshments as we exchange business cards\, leads and referrals.<br />\n<br />\nIf you bring a raffle item (bottle of wine\, gift card\, etc) we will give you a 30 second commercial to present yourself and your business/company. Bring plenty of business cards. Members are FREE and non-members are $10.00
LOCATION:The May 2011 Evening Mixer will be hosted by the Natomas Rose Garden at 2921 Truxel Road in Natomas 95834.
UID:e.1155.221
SEQUENCE:3
DTSTAMP:20260423T185653Z
URL:https://business.natomaschamber.org/events/details/evening-mixer-may-26-natomas-rose-garden-05-26-2011-221
END:VEVENT

END:VCALENDAR
