BEGIN:VCALENDAR
VERSION:2.0
PRODID:-//ChamberMaster//Event Calendar 2.0//EN
METHOD:PUBLISH
X-PUBLISHED-TTL:P3D
REFRESH-INTERVAL:P3D
CALSCALE:GREGORIAN
BEGIN:VEVENT
DTSTART:20110729T003000Z
DTEND:20110729T003000Z
X-MICROSOFT-CDO-ALLDAYEVENT:FALSE
SUMMARY:Evening Mixer July 28 - Natomas Racquet Club
DESCRIPTION:The July 2011 Evening Mixer will be hosted by the Natomas Racquet Club at 2450 Natomas Park Drive in Natomas 95833.\n\n--------------------\n\nCome  out to Natomas Racquet Club for an evening of networking \, food\, drink and fun.\n\nSee our tennis pros compete on your behalf for great prizes.\n\n\n\nThis is not your normal chamber mixer!\n\n\n\nPrizes include:\n\n3 month family membership\n\n3 tennis lessons\n\n3 personal training sessions\n\n...and more\n\n\n\nEvery attendee will receive a two-week pass to Natomas Racquet Club\n\n---------------------\n\nOur Monthly Business Mixers are great opportunities to share your business products and services with others in the local business community.\n\n\n\nJoin us for some appetizers and refreshments as we exchange business cards\, leads and referrals.\n\n\n\nIf you bring a raffle item (bottle of wine\, gift card\, etc) we will give you a 30 second commercial to present yourself and your business/company. Bring plenty of business cards. Members are FREE and non-members are $10.00
X-ALT-DESC;FMTTYPE=text/html:The July 2011 Evening Mixer will be hosted by the Natomas Racquet Club at 2450 Natomas Park Drive in Natomas 95833.<br />\n--------------------<br />\nCome&nbsp\; out to Natomas Racquet Club for an evening of networking \, food\, drink and fun.<br />\nSee our tennis pros compete on your behalf for great prizes.<br />\n<br />\n<strong><span style="color:red\;">This is not your normal chamber mixer!</span></strong><br />\n<br />\nPrizes include:<br />\n3 month family membership<br />\n3 tennis lessons<br />\n3 personal training sessions<br />\n...and more<br />\n<br />\n<strong>Every attendee will receive a two-week pass to Natomas Racquet Club</strong><br />\n---------------------<br />\nOur Monthly Business Mixers are great opportunities to share your business products and services with others in the local business community.<br />\n<br />\nJoin us for some appetizers and refreshments as we exchange business cards\, leads and referrals.<br />\n<br />\nIf you bring a raffle item (bottle of wine\, gift card\, etc) we will give you a 30 second commercial to present yourself and your business/company. Bring plenty of business cards. Members are FREE and non-members are $10.00
LOCATION:The Natomas Racquet Club is located at 2450 Natomas Park Drive in Natomas 95833. Joel Wheeler will be your host. 916-649-0909.
UID:e.1155.237
SEQUENCE:3
DTSTAMP:20260423T161423Z
URL:https://business.natomaschamber.org/events/details/evening-mixer-july-28-natomas-racquet-club-07-28-2011-237
END:VEVENT

END:VCALENDAR
