BEGIN:VCALENDAR
VERSION:2.0
PRODID:-//ChamberMaster//Event Calendar 2.0//EN
METHOD:PUBLISH
X-PUBLISHED-TTL:P3D
REFRESH-INTERVAL:P3D
CALSCALE:GREGORIAN
BEGIN:VEVENT
DTSTART:20130823T003000Z
DTEND:20130823T020000Z
X-MICROSOFT-CDO-ALLDAYEVENT:FALSE
SUMMARY:Evening Mixer-Grinstead-8/22/2013
DESCRIPTION:Our Monthly Business Mixers are great opportunities to share your business products and services with others in the local business community.\n\n\n\nJoin us for some appetizers and refreshments as we exchange business cards\, leads and referrals.\n\n\n\nIf you are a MEMBER and bring a raffle item (bottle of wine\, gift card\, etc) we will give you a 30 second commercial to present yourself and your business/company. Bring plenty of business cards.\n\n\n\nMembers are FREE and non-members are $10.00
X-ALT-DESC;FMTTYPE=text/html:<span class="cm_editor_fix">Our Monthly Business Mixers are great opportunities to share your business products and services with others in the local business community.<br />\n<br />\nJoin us for some appetizers and refreshments as we exchange business cards\, leads and referrals.<br />\n<br />\nIf you are a <u><em><strong>MEMBER </strong></em></u>and bring a raffle item (bottle of wine\, gift card\, etc) we will give you a 30 second commercial to present yourself and your business/company. Bring plenty of business cards.<br />\n<br />\nMembers are FREE and non-members are $10.00</span>
LOCATION:Grinstead Treatment and Training Services 4200 N Freeway Blvd.\, Suite 3 Sacramento CA 95834 916-575-9961
UID:e.1155.779
SEQUENCE:3
DTSTAMP:20260421T235659Z
URL:https://business.natomaschamber.org/events/details/evening-mixer-grinstead-8-22-2013-08-22-2013-779
END:VEVENT

END:VCALENDAR
