BEGIN:VCALENDAR
VERSION:2.0
PRODID:-//ChamberMaster//Event Calendar 2.0//EN
METHOD:PUBLISH
X-PUBLISHED-TTL:P3D
REFRESH-INTERVAL:P3D
CALSCALE:GREGORIAN
BEGIN:VEVENT
DTSTART:20111028T003000Z
DTEND:20111028T020000Z
X-MICROSOFT-CDO-ALLDAYEVENT:FALSE
SUMMARY:Evening Mixer - Cookie Lee Jewelry
DESCRIPTION:Our Monthly Business Mixers are great opportunities to share your business products and services with others in the local business community.\n\n\n\nJoin us for some appetizers and refreshments as we exchange business cards\, leads and referrals.\n\n\n\nIf you are a MEMBER and bring a raffle item (bottle of wine\, gift card\, etc) we will give you a 30 second commercial to present yourself and your business/company. Bring plenty of business cards.\n\n\n\nMembers are FREE and non-members are $10.00
X-ALT-DESC;FMTTYPE=text/html:Our Monthly Business Mixers are great opportunities to share your business products and services with others in the local business community.<br />\n<br />\nJoin us for some appetizers and refreshments as we exchange business cards\, leads and referrals.<br />\n<br />\nIf you are a <u><em><strong>MEMBER </strong></em></u>and bring a raffle item (bottle of wine\, gift card\, etc) we will give you a 30 second commercial to present yourself and your business/company. Bring plenty of business cards.<br />\n<br />\nMembers are FREE and non-members are $10.00
LOCATION:Cookie Lee Jewelry will be hosting this mixer which will be held at Umpqua Bank located at 2761 Del Paso Road\, in Sacramento. Danielle Marshall will be your host.
UID:e.1155.275
SEQUENCE:3
DTSTAMP:20260423T112726Z
URL:https://business.natomaschamber.org/events/details/evening-mixer-cookie-lee-jewelry-10-27-2011-275
END:VEVENT

END:VCALENDAR
