BEGIN:VCALENDAR
VERSION:2.0
PRODID:-//ChamberMaster//Event Calendar 2.0//EN
METHOD:PUBLISH
X-PUBLISHED-TTL:P3D
REFRESH-INTERVAL:P3D
CALSCALE:GREGORIAN
BEGIN:VEVENT
DTSTART:20110826T003000Z
DTEND:20110826T020000Z
X-MICROSOFT-CDO-ALLDAYEVENT:FALSE
SUMMARY:Evening Mixer Aug 25 - FASTSIGNS of Natomas
DESCRIPTION:The August 2011 Evening Mixer will be hosted by FASTSIGNS of Natomas.  FASTSIGNS is located at 2840 Del Paso Road\, Suite 200 in Natomas.\n\n\n\nOur Monthly Business Mixers are great opportunities to share your business products and services with others in the local business community.\n\n\n\nJoin us for some appetizers and refreshments as we exchange business cards\, leads and referrals.\n\n\n\nIf you bring a raffle item (bottle of wine\, gift card\, etc) we will give you a 30 second commercial to present yourself and your business/company. Bring plenty of business cards. Members are FREE and non-members are $10.00
X-ALT-DESC;FMTTYPE=text/html:The August 2011 Evening Mixer will be hosted by FASTSIGNS of Natomas.&nbsp\; FASTSIGNS is located at 2840 Del Paso Road\, Suite 200 in Natomas.<br />\n<br />\nOur Monthly Business Mixers are great opportunities to share your business products and services with others in the local business community.<br />\n<br />\nJoin us for some appetizers and refreshments as we exchange business cards\, leads and referrals.<br />\n<br />\nIf you bring a raffle item (bottle of wine\, gift card\, etc) we will give you a 30 second commercial to present yourself and your business/company. Bring plenty of business cards. Members are FREE and non-members are $10.00
LOCATION:The August 2011 Evening Mixer will be hosted by FASTSIGNS of Natomas at 2840 Del Paso Road\, Suite 200 in Natomas.
UID:e.1155.242
SEQUENCE:3
DTSTAMP:20260423T161423Z
URL:https://business.natomaschamber.org/events/details/evening-mixer-aug-25-fastsigns-of-natomas-08-25-2011-242
END:VEVENT

END:VCALENDAR
