BEGIN:VCALENDAR
VERSION:2.0
PRODID:-//ChamberMaster//Event Calendar 2.0//EN
METHOD:PUBLISH
X-PUBLISHED-TTL:P3D
REFRESH-INTERVAL:P3D
CALSCALE:GREGORIAN
BEGIN:VEVENT
DTSTART:20110429T003000Z
DTEND:20110429T020000Z
X-MICROSOFT-CDO-ALLDAYEVENT:FALSE
SUMMARY:Evening Mixer April 28 - SAFE Credit Union
DESCRIPTION:April Business Mixer\n\n	SAFE Credit Union\n\n	2200 Del Paso Road\n\n	Natomas 95834\n\n	Christine Barham of SAFE Credit Union will be your host.\n\n\nThis is a great opportunity to share your business products and services with others in the local business community.\n\n\n\nJoin us for some appetizers and refreshments as we exchange business cards\, leads and referrals.\n\n\n	If you bring a raffle item (bottle of wine\, gift card\, etc) we will give you a 30 second commercial to present yourself and your business/company.\nBe sure to bring plenty of business cards.
X-ALT-DESC;FMTTYPE=text/html:<p>\n	<span style="font-family: arial\,helvetica\,sans-serif\;"><strong>April Business Mixer</strong></span></p>\n<p>\n	<em><strong>SAFE Credit Union</strong></em><br />\n	2200 Del Paso Road<br />\n	Natomas 95834<br />\n	Christine Barham of SAFE Credit Union will be your host.</p>\n<br />\n<span style="font-family: arial\,helvetica\,sans-serif\;">This is a great opportunity to share your business products and services with others in the local business community.<br />\n<br />\nJoin us for some appetizers and refreshments as we exchange business cards\, leads and referrals.</span><br />\n<p class="moxy">\n	<span style="font-family: arial\,helvetica\,sans-serif\;">If you bring a raffle item (bottle of wine\, gift card\, etc) we will give you a 30 second commercial to present yourself and your business/company.</span></p>\n<span style="font-family: arial\,helvetica\,sans-serif\;">Be sure to bring plenty of business cards.</span>
LOCATION:SAFE Credit Union 2200 Del Paso Road Natomas 95834 (916) 971-2926
UID:e.1155.3
SEQUENCE:3
DTSTAMP:20260423T203040Z
URL:https://business.natomaschamber.org/events/details/evening-mixer-april-28-safe-credit-union-04-28-2011-3
END:VEVENT

END:VCALENDAR
