BEGIN:VCALENDAR
VERSION:2.0
PRODID:-//ChamberMaster//Event Calendar 2.0//EN
METHOD:PUBLISH
X-PUBLISHED-TTL:P3D
REFRESH-INTERVAL:P3D
CALSCALE:GREGORIAN
BEGIN:VEVENT
DTSTART:20120824T003000Z
DTEND:20120824T020000Z
X-MICROSOFT-CDO-ALLDAYEVENT:FALSE
SUMMARY:Evening Mixer-AAA Northern California\, Nevada\, Utah-8/23/12
DESCRIPTION:Our Monthly Business Mixers are great opportunities to share your business products and services with others in the local business community.\n\n\n\nJoin us for some appetizers and refreshments as we exchange business cards\, leads and referrals.\n\n\n\nIf you are a MEMBER and bring a raffle item (bottle of wine\, gift card\, etc) we will give you a 30 second commercial to present yourself and your business/company. Bring plenty of business cards.\n\n\n\nMembers are FREE and non-members are $10.00
X-ALT-DESC;FMTTYPE=text/html:Our Monthly Business Mixers are great opportunities to share your business products and services with others in the local business community.<br />\n<br />\nJoin us for some appetizers and refreshments as we exchange business cards\, leads and referrals.<br />\n<br />\nIf you are a <u><em><strong>MEMBER </strong></em></u>and bring a raffle item (bottle of wine\, gift card\, etc) we will give you a 30 second commercial to present yourself and your business/company. Bring plenty of business cards.<br />\n<br />\nMembers are FREE and non-members are $10.00
LOCATION:AAA Northern California\, Nevada\, Utah 4740 Natomas Boulevard Suite 140 Sacramento CA 95835
UID:e.1155.321
SEQUENCE:3
DTSTAMP:20260422T192011Z
URL:https://business.natomaschamber.org/events/details/evening-mixer-aaa-northern-california-nevada-utah-8-23-12-08-23-2012-321
END:VEVENT

END:VCALENDAR
