BEGIN:VCALENDAR
VERSION:2.0
PRODID:-//ChamberMaster//Event Calendar 2.0//EN
METHOD:PUBLISH
X-PUBLISHED-TTL:P3D
REFRESH-INTERVAL:P3D
CALSCALE:GREGORIAN
BEGIN:VEVENT
DTSTART:20120421T200000Z
DTEND:20120422T000000Z
X-MICROSOFT-CDO-ALLDAYEVENT:FALSE
SUMMARY:Dragon Fire Kick-a-thon
DESCRIPTION:Please join us for an afternoon of fun.  We are having a fundraiser for the Sidekick Foundation.  People can sample our many classes such as Jujitsu\, Cho Hwa\, Okinawan weapons\, and Zumba.  We are having a silent auction\,  with items such as a living trust\, Kings tickets\, dinners at great resturants\, one hour massage\, a two hour business consultation and many other great items.  We are also having bingo\, and food.  Our kids will be kicking to raise money to fund scholarships for disadvantaged youth.  We will finish off with a demo from the Dragon Fire Martial Arts demo team. \n\n\n\nJoin us for this afternoon of fun.\n\n\n\nIt will be held at Dragon Fire Martial Arts\, Inc.  1500 W. El Camino Ave. Suite #1\, Sacramento\, CA   95833\n\nFor additional information or to make a donation please call Lois:  916-457-4636.\n\n\n\nAll donations are tax deductable.
X-ALT-DESC;FMTTYPE=text/html:Please join us for an afternoon of fun.&nbsp\; We are having a fundraiser for the Sidekick Foundation.&nbsp\; People can sample our many classes such as Jujitsu\, Cho Hwa\, Okinawan weapons\, and Zumba.&nbsp\; We are having a silent auction\,&nbsp\; with items such as a living trust\, Kings tickets\, dinners at great resturants\, one hour massage\, a two hour business consultation&nbsp\;and many other great items.&nbsp\; We are also having bingo\, and food.&nbsp\; Our kids will be kicking to raise money to fund scholarships for disadvantaged youth.&nbsp\; We will finish off with a demo from the Dragon Fire Martial Arts demo team.&nbsp\;<br />\n<br />\nJoin us for this afternoon of fun.<br />\n<br />\nIt will be held at Dragon Fire Martial Arts\, Inc.&nbsp\; 1500 W. El Camino Ave. Suite #1\, Sacramento\, CA&nbsp\;&nbsp\; 95833<br />\nFor additional information or to make a donation please call Lois:&nbsp\; 916-457-4636.<br />\n<br />\nAll donations are tax deductable.
LOCATION:Dragon Fire Martial Arts\, Inc. 1500 W. El Camino Ave. Suite #1\, Sacramento\, CA 95833
UID:e.1155.330
SEQUENCE:3
DTSTAMP:20260423T011148Z
URL:https://business.natomaschamber.org/events/details/dragon-fire-kick-a-thon-04-21-2012-330
END:VEVENT

END:VCALENDAR
