BEGIN:VCALENDAR
VERSION:2.0
PRODID:-//ChamberMaster//Event Calendar 2.0//EN
METHOD:PUBLISH
X-PUBLISHED-TTL:P3D
REFRESH-INTERVAL:P3D
CALSCALE:GREGORIAN
BEGIN:VEVENT
DTSTART:20130701T010000Z
DTEND:20130701T013000Z
X-MICROSOFT-CDO-ALLDAYEVENT:FALSE
SUMMARY:Dedication Fountain Natomas Rose Garden and Tango Dance
DESCRIPTION:The public is invited to the dedication of the new fountain in the rose garden at 6pm followed by a tango dance in the Grand Circle from 6:30-9pm.\n\nMusic by tango instructor and DJ\, Michelle Gorre.\n\nJoin us for the first-ever tango milonga in a Sacramento rose garden.\n\nSponsored by the core volunteer committee.
X-ALT-DESC;FMTTYPE=text/html:The public is invited to the dedication of the new fountain in the rose garden at 6pm followed by a tango dance in the Grand Circle from 6:30-9pm.<br />\nMusic by tango instructor and DJ\, Michelle Gorre.<br />\nJoin us for the first-ever tango milonga in a Sacramento rose garden.<br />\nSponsored by the core volunteer committee.
LOCATION:Natomas Rose Garden\, 2921 Truxel Rd
UID:e.1155.835
SEQUENCE:3
DTSTAMP:20260422T043041Z
URL:https://business.natomaschamber.org/events/details/dedication-fountain-natomas-rose-garden-and-tango-dance-06-30-2013-835
END:VEVENT

END:VCALENDAR
