BEGIN:VCALENDAR
VERSION:2.0
PRODID:-//ChamberMaster//Event Calendar 2.0//EN
METHOD:PUBLISH
X-PUBLISHED-TTL:P3D
REFRESH-INTERVAL:P3D
CALSCALE:GREGORIAN
BEGIN:VEVENT
DTSTART:20121025T233000Z
DTEND:20121026T013000Z
X-MICROSOFT-CDO-ALLDAYEVENT:FALSE
SUMMARY:Connectionopolis- Networktopia
DESCRIPTION:Join the Sacramento Business Journal and Sierra Forever Families for this strictly networking evening mixer! \n\n	 \n\n	Whether you have been to a Connectionopolis before or not\, this one is a must attend. Mix and mingle with other local business leaders and get into the spirit of the fall season. Bring along a bag of candy to donate to Sierra Forever Families for Halloween goodie bags.\n\n	 \n\n	Catered by Panera Bread Catering and wine by Revolution Wines
X-ALT-DESC;FMTTYPE=text/html:<p class="Default" style="margin: 0in 0in 0pt">\n	<font color="#000000" face="Arial" size="3">Join the Sacramento Business Journal and Sierra Forever Families for this strictly networking evening mixer! </font></p>\n<p class="Default" style="margin: 0in 0in 0pt">\n	<o:p><font color="#000000" face="Arial" size="3">&nbsp\;</font></o:p></p>\n<p class="Default" style="margin: 0in 0in 0pt">\n	<font color="#000000" face="Arial" size="3">Whether you have been to a Connectionopolis before or not\, this one is a must attend. Mix and mingle with other local business leaders and get into the spirit of the fall season. Bring along a bag of candy to donate to Sierra Forever Families for Halloween goodie bags.</font></p>\n<p class="Default" style="margin: 0in 0in 0pt">\n	<o:p><font color="#000000" face="Arial" size="3">&nbsp\;</font></o:p></p>\n<p class="Default" style="margin: 0in 0in 0pt">\n	<font color="#000000" face="Arial" size="3">Catered by Panera Bread Catering and wine by Revolution Wines</font></p>\n
LOCATION:Sierra Forever Families\, 8928 Volunteer Lane Ste. 100\, Sacramento\, CA 95826
UID:e.1155.623
SEQUENCE:3
DTSTAMP:20260422T155915Z
URL:https://business.natomaschamber.org/events/details/connectionopolis-networktopia-10-25-2012-623
END:VEVENT

END:VCALENDAR
