BEGIN:VCALENDAR
VERSION:2.0
PRODID:-//ChamberMaster//Event Calendar 2.0//EN
METHOD:PUBLISH
X-PUBLISHED-TTL:P3D
REFRESH-INTERVAL:P3D
CALSCALE:GREGORIAN
BEGIN:VEVENT
DTSTART:20120817T020000Z
DTEND:20120817T033000Z
X-MICROSOFT-CDO-ALLDAYEVENT:FALSE
SUMMARY:Class: Family Law Options and Counseling Tips
DESCRIPTION:There are several options potentially available to parties in order to resolve family law issues\, including\, but not limited to\, divorce\, legal separation\, child custody\, paternity/parentage\, child support\, spousal support\, property division and premarital agreements.  Attorney and mediator Bryan C. Ginter will provide inforamtion regarding these options\, including non-adversarial options to help keep you out of court.  Additionally\, therapist Ralph Rast will provide helpful tools and tips for separating/separated individuals and also for those interested in saving their relationship.  Registration is done quickly and easily online at www.ginterfamilylaw.com/calendar.html.  Please note that space is limited and that seats are assigned on a first come/first serve basis.\n\n\n\nYou can learn more about Bryan C. Ginter\, Esq. by visiting www.ginterfamilylaw.com/aboutus.html and you can learn more about Ralph Rast\, M.A.\, M.F.T. by visiting www.ralphrast.com/about_us.
X-ALT-DESC;FMTTYPE=text/html:There are several options potentially available to parties in order to resolve family law issues\, including\, but not limited to\, divorce\, legal separation\, child custody\, paternity/parentage\, child support\, spousal support\, property division and premarital agreements.&nbsp\; Attorney and mediator Bryan C. Ginter will provide inforamtion regarding these options\, including non-adversarial options to help keep you out of court.&nbsp\; Additionally\, therapist Ralph Rast will provide helpful tools and tips for separating/separated individuals and also for those interested in saving their relationship.&nbsp\; Registration is done quickly and easily online at <a href="http://www.ginterfamilylaw.com/calendar.html">www.ginterfamilylaw.com/calendar.html</a>.&nbsp\; <strong><em>Please note that space is limited and that seats are assigned on a first come/first serve basis.</em></strong><br />\n<br />\nYou can learn more about Bryan C. Ginter\, Esq.&nbsp\;by visiting <a href="http://www.ginterfamilylaw.com/aboutus.html">www.ginterfamilylaw.com/aboutus.html</a>&nbsp\;and you can learn more about Ralph Rast\, M.A.\, M.F.T. by visiting <a href="http://www.ralphrast.com/about_us">www.ralphrast.com/about_us</a>.&nbsp\; 
LOCATION:Ginter Family Law 4440 Duckhorn Drive Sacramento\, CA 95834
UID:e.1155.590
SEQUENCE:3
DTSTAMP:20260422T191810Z
URL:https://business.natomaschamber.org/events/details/class-family-law-options-and-counseling-tips-08-16-2012-590
END:VEVENT

END:VCALENDAR
