BEGIN:VCALENDAR
VERSION:2.0
PRODID:-//ChamberMaster//Event Calendar 2.0//EN
METHOD:PUBLISH
X-PUBLISHED-TTL:P3D
REFRESH-INTERVAL:P3D
CALSCALE:GREGORIAN
BEGIN:VEVENT
DTSTART:20120721T163000Z
DTEND:20120721T180000Z
X-MICROSOFT-CDO-ALLDAYEVENT:FALSE
SUMMARY:Class: Family Law Options and Counseling Tips
DESCRIPTION:There are several options potentially available to parties in order to resolve family law issues\, including\, but not limited to\, divorce\, legal separation\, child custody\, paternity/parentage\, child support\, spousal support and property division.  Attorney and mediator Bryan C. Ginter will provide information regarding these options\, including non-adversarial options to help keep you out of court.  Additionally\, therapist Ralph Rast will provide helpful tools and tips for separating/separated individuals and also for those interested in saving their relationship.  Registration is done quickly and easily online at www.ginterfamilylaw.com/calendar.html.  Please note that space is limited\; seats are assigned on a first come/first serve basis.\n\n	\n\n	You can learn more about Bryan C. Ginter\, Esq. by going to www.ginterfamilylaw.com/aboutus.html.  You can also learn more about Ralph Rast\, M.A.\, M.F.T. by going to www.ralphrast.com/about_us.
X-ALT-DESC;FMTTYPE=text/html:<p style="text-align: justify">\n	There are several options potentially available to parties in order to resolve family law issues\, including\, but not limited to\, divorce\, legal separation\, child custody\, paternity/parentage\, child support\, spousal support and property division.&nbsp\; Attorney and mediator Bryan C. Ginter will provide information regarding these options\, including non-adversarial options to help keep you out of court.&nbsp\; Additionally\, therapist Ralph Rast will provide helpful tools and tips for separating/separated individuals and also for those interested in saving their relationship.&nbsp\; Registration is done quickly and easily online at <a href="http://www.ginterfamilylaw.com/calendar.html">www.ginterfamilylaw.com/calendar.html</a>.&nbsp\; <strong><em>Please note that space is limited\; seats are assigned on a first come/first serve basis.</em></strong><br />\n	<br />\n	You can learn more about Bryan C. Ginter\, Esq. by going to <a href="http://www.ginterfamilylaw.com/aboutus.html">www.ginterfamilylaw.com/aboutus.html</a>.&nbsp\; You can also learn more about Ralph Rast\, M.A.\, M.F.T. by going to <a href="http://www.ralphrast.com/about_us">www.ralphrast.com/about_us</a>.&nbsp\;</p>\n
LOCATION:Ginter Family Law 4440 Duckhorn Dr.\, Ste. 400 Sacramento\, CA 95834
UID:e.1155.589
SEQUENCE:3
DTSTAMP:20260422T221426Z
URL:https://business.natomaschamber.org/events/details/class-family-law-options-and-counseling-tips-07-21-2012-589
END:VEVENT

END:VCALENDAR
