BEGIN:VCALENDAR
VERSION:2.0
PRODID:-//ChamberMaster//Event Calendar 2.0//EN
METHOD:PUBLISH
X-PUBLISHED-TTL:P3D
REFRESH-INTERVAL:P3D
CALSCALE:GREGORIAN
BEGIN:VEVENT
DTSTART:20120909T220000Z
DTEND:20120910T010000Z
X-MICROSOFT-CDO-ALLDAYEVENT:FALSE
SUMMARY:City Crush - Wine and Food Tasting
DESCRIPTION:An afternoon of  food and wine tasting  hosted by the Rotary Club of Natomas and Rotary Club of Midtown. \n\n	\n\n	This event will feature local wineries and restaurants from the Natomas and Midtown areas.  Proceeds from the event will go toward the community service projects for both clubs.
X-ALT-DESC;FMTTYPE=text/html:<p>\n	An afternoon of &nbsp\;food and wine tasting&nbsp\; hosted by the Rotary Club of Natomas and Rotary Club of Midtown.&nbsp\;<br />\n	<br />\n	This event will feature local wineries and restaurants from the Natomas and Midtown areas.&nbsp\; Proceeds from the event will go toward the community service projects for both clubs.</p>\n
LOCATION:California Museum - 1020 O Street - Sacramento\, CA 95814
UID:e.1155.604
SEQUENCE:3
DTSTAMP:20260422T175126Z
URL:https://business.natomaschamber.org/events/details/city-crush-wine-and-food-tasting-09-09-2012-604
END:VEVENT

END:VCALENDAR
