BEGIN:VCALENDAR
VERSION:2.0
PRODID:-//ChamberMaster//Event Calendar 2.0//EN
METHOD:PUBLISH
X-PUBLISHED-TTL:P3D
REFRESH-INTERVAL:P3D
CALSCALE:GREGORIAN
BEGIN:VEVENT
DTSTART:20130609T220000Z
DTEND:20130610T010000Z
X-MICROSOFT-CDO-ALLDAYEVENT:FALSE
SUMMARY:City Crush 2013 (Rotary Clubs of Natomas and Midtown-Sacramento)
DESCRIPTION:This Wine and Food Tasting Fundraiser is to benefit both our clubs\, to enable us to continue to participate in supporting our respective communities (such as our third graders free dictionary distribution project) and worldwide projects (such as Polio Plus\, to completely eradicate Polio\; did you know there are only 3 countries left in the world that currently have reported cases of polio - Pakistan\, Nigeria\, Afghanistan? We are "THIS CLOSE" to eliminating this disease!  Check out the "This Close" Youtube video - www.youtube.com/watch?v=ZVfaNJB8x1g )\n\n\n\nTickets can be purchased on Eventbrite:  http://citycrush.eventbrite.com\n\n501c(3) ID: 26-3017644\n\n\n\nVendors lined up are (10 restaurants\, 2 breweries and 7 wineries):\n\n\n\nBreweries:  \n\nHoppy and Rubicon\n\n\n\nWineries:\n\nRevolution Wines\n\nBarefoot Cellars\n\nCarvalho Family Wines\n\nRendez-vous\n\nMerlo Family Vineyards\n\nClarksburg Wine Company\n\nMcConnell Estates Winery\n\n\n\nRestaurants:\n\nFat's Asian Bistro\n\nAsia Garden\n\nPo' Boys\n\nJohnny Carina\n\nMexican Restaurant TBA\n\nPeets Coffee\n\nVanilla Bean Gourmet Cupcakery\n\nMasullo\n\nLa Bombe Ice Cream and More\n\nLogan's Road House
X-ALT-DESC;FMTTYPE=text/html:This Wine and Food Tasting Fundraiser is to benefit both our clubs\, to enable us to continue to participate in supporting our respective communities (such as our third graders free dictionary distribution project) and worldwide projects (such as Polio Plus\, to completely eradicate Polio\; did you know there are only 3 countries left in the world that currently have reported cases of polio - Pakistan\, Nigeria\, Afghanistan? We are &quot\;THIS CLOSE&quot\; to eliminating this disease!&nbsp\; Check out the &quot\;This Close&quot\; Youtube video - <span style="color: rgb(0\, 153\, 51)\; font-family: arial\, sans-serif\; font-size: small\; line-height: 15px\;"><a href="mailbox:///C:/Users/KenFongDM/AppData/Roaming/Thunderbird/Profiles/0djsgd8i.default/Mail/pop.googlemail-1.com/www.youtube.com/watch?v=ZVfaNJB8x1g">www.youtube.com/watch?v=ZVfaNJB8x1g</a> </span>)<br />\n<br />\nTickets can be purchased on Eventbrite: &nbsp\;<a href="http://citycrush.eventbrite.com/">http://citycrush.eventbrite.com</a><br />\n501c(3) ID: 26-3017644<br />\n<br />\nVendors lined up are (10 restaurants\, 2 breweries and 7 wineries):<br />\n<br />\n<u>Breweries:</u>&nbsp\;&nbsp\;<br />\nHoppy and Rubicon<br />\n<br />\n<u>Wineries:</u><br />\nRevolution Wines<br />\nBarefoot Cellars<br />\nCarvalho Family Wines<br />\nRendez-vous<br />\nMerlo Family Vineyards<br />\nClarksburg Wine Company<br />\nMcConnell Estates Winery<br />\n<br />\n<u>Restaurants:</u><br />\nFat&#39\;s Asian Bistro<br />\nAsia Garden<br />\nPo&#39\; Boys<br />\nJohnny Carina<br />\n<i>Mexican Restaurant TBA</i><br />\nPeets Coffee<br />\nVanilla Bean Gourmet Cupcakery<br />\nMasullo<br />\nLa Bombe Ice Cream and More<br />\nLogan&#39\;s Road House
LOCATION:California Museum\, 1020 O Street\, Sacramento\, CA 95814
UID:e.1155.836
SEQUENCE:3
DTSTAMP:20260422T025417Z
URL:https://business.natomaschamber.org/events/details/city-crush-2013-rotary-clubs-of-natomas-and-midtown-sacramento-06-09-2013-836
END:VEVENT

END:VCALENDAR
