BEGIN:VCALENDAR
VERSION:2.0
PRODID:-//ChamberMaster//Event Calendar 2.0//EN
METHOD:PUBLISH
X-PUBLISHED-TTL:P3D
REFRESH-INTERVAL:P3D
CALSCALE:GREGORIAN
BEGIN:VEVENT
DTSTART;VALUE=DATE:20140503
DTEND;VALUE=DATE:20140508
TRANSP:TRANSPARENT
X-MICROSOFT-CDO-ALLDAYEVENT:TRUE
SUMMARY:Cinco De Mayo Special
DESCRIPTION:Cinco de Mayo Special Deal- Large Pizza- Latino Style $ 13.99 + Tax. From 5/3 through 5/6.\n\n\n\nMonday and Tuesday only- Any Large Pizza- $ 10.99 + Tax.
X-ALT-DESC;FMTTYPE=text/html:Cinco de Mayo Special Deal- Large Pizza- Latino Style $ 13.99 + Tax. From 5/3 through 5/6.<br />\n<br />\nMonday and Tuesday only- Any Large Pizza- $ 10.99 + Tax.
LOCATION:4391 Gateway Park Blvd\, suite 600
UID:e.1155.1170
SEQUENCE:3
DTSTAMP:20260421T114446Z
URL:https://business.natomaschamber.org/events/details/cinco-de-mayo-special-05-03-2014-1170
END:VEVENT

END:VCALENDAR
